BEGIN:VCALENDAR
VERSION:2.0
PRODID:-//BouwNieuwsVandaag - ECPv6.15.20//NONSGML v1.0//EN
CALSCALE:GREGORIAN
METHOD:PUBLISH
X-WR-CALNAME:BouwNieuwsVandaag
X-ORIGINAL-URL:https://bouwnieuwsvandaag.nl
X-WR-CALDESC:Evenementen voor BouwNieuwsVandaag
REFRESH-INTERVAL;VALUE=DURATION:PT1H
X-Robots-Tag:noindex
X-PUBLISHED-TTL:PT1H
BEGIN:VTIMEZONE
TZID:Europe/Amsterdam
BEGIN:DAYLIGHT
TZOFFSETFROM:+0100
TZOFFSETTO:+0200
TZNAME:CEST
DTSTART:20250330T010000
END:DAYLIGHT
BEGIN:STANDARD
TZOFFSETFROM:+0200
TZOFFSETTO:+0100
TZNAME:CET
DTSTART:20251026T010000
END:STANDARD
BEGIN:DAYLIGHT
TZOFFSETFROM:+0100
TZOFFSETTO:+0200
TZNAME:CEST
DTSTART:20260329T010000
END:DAYLIGHT
BEGIN:STANDARD
TZOFFSETFROM:+0200
TZOFFSETTO:+0100
TZNAME:CET
DTSTART:20261025T010000
END:STANDARD
BEGIN:DAYLIGHT
TZOFFSETFROM:+0100
TZOFFSETTO:+0200
TZNAME:CEST
DTSTART:20270328T010000
END:DAYLIGHT
BEGIN:STANDARD
TZOFFSETFROM:+0200
TZOFFSETTO:+0100
TZNAME:CET
DTSTART:20271031T010000
END:STANDARD
END:VTIMEZONE
BEGIN:VEVENT
DTSTART;TZID=Europe/Amsterdam:20260605T090000
DTEND;TZID=Europe/Amsterdam:20260606T170000
DTSTAMP:20260419T153913
CREATED:20260103T091319Z
LAST-MODIFIED:20260103T091319Z
UID:10000237-1780650000-1780765200@bouwnieuwsvandaag.nl
SUMMARY:Kipper Event
DESCRIPTION:De derde editie van het Kipper Event vindt plaats op vrijdag 5 en zaterdag 6 juni op Veluwe aan Zee bij Putten\, centraal gelegen aan afslag 11 ‘Strand Horst’ aan de A28. Op deze nieuwe locatie hebben we alle ruimte voor dit tweejaarlijkse evenement waarbij standhouders de nieuwste ontwikkelingen tonen op het gebied van bouwtransport en gerelateerd materieel. \nDaarmee is het de enige transport gerelateerde\, tweejaarlijkse vakbeurs in Nederland. Het Kipper Event heeft inmiddels een vaste plek op de agenda verworven. Tijdens de vorige edities in Markelo en Harderwijk heeft het Kipper Event zijn waarde bewezen als netwerk beurs voor de truck-carrosserie en trailerbranche in Nederland met gerichte bezoekers uit de transport-\, bouw- en infrawereld. \nDe transitie is in volle gang en dat heeft gevolgen voor de hele sector\, van elektrische trucks tot laadoplossingen\, mobiele laadstations\, elektrisch aangedreven materieel en zelfs waterstof toepassingen. Het Kipper Event is dé plek om de nieuwste producten te presenteren en demonstreren voor de gebruikers ervan. Duurzaamheid zal dan ook hét thema zijn van het Kipper Event.
URL:https://bouwnieuwsvandaag.nl/event/kipper-event/
LOCATION:Veluwe aan Zee\, Strandboulevard 37\, Putten
CATEGORIES:Vakbeurs
END:VEVENT
END:VCALENDAR