BEGIN:VCALENDAR
VERSION:2.0
PRODID:-//BouwNieuwsVandaag - ECPv6.15.20//NONSGML v1.0//EN
CALSCALE:GREGORIAN
METHOD:PUBLISH
X-ORIGINAL-URL:https://bouwnieuwsvandaag.nl
X-WR-CALDESC:Evenementen voor BouwNieuwsVandaag
REFRESH-INTERVAL;VALUE=DURATION:PT1H
X-Robots-Tag:noindex
X-PUBLISHED-TTL:PT1H
BEGIN:VTIMEZONE
TZID:Europe/Amsterdam
BEGIN:DAYLIGHT
TZOFFSETFROM:+0100
TZOFFSETTO:+0200
TZNAME:CEST
DTSTART:20250330T010000
END:DAYLIGHT
BEGIN:STANDARD
TZOFFSETFROM:+0200
TZOFFSETTO:+0100
TZNAME:CET
DTSTART:20251026T010000
END:STANDARD
BEGIN:DAYLIGHT
TZOFFSETFROM:+0100
TZOFFSETTO:+0200
TZNAME:CEST
DTSTART:20260329T010000
END:DAYLIGHT
BEGIN:STANDARD
TZOFFSETFROM:+0200
TZOFFSETTO:+0100
TZNAME:CET
DTSTART:20261025T010000
END:STANDARD
BEGIN:DAYLIGHT
TZOFFSETFROM:+0100
TZOFFSETTO:+0200
TZNAME:CEST
DTSTART:20270328T010000
END:DAYLIGHT
BEGIN:STANDARD
TZOFFSETFROM:+0200
TZOFFSETTO:+0100
TZNAME:CET
DTSTART:20271031T010000
END:STANDARD
END:VTIMEZONE
BEGIN:VEVENT
DTSTART;TZID=Europe/Amsterdam:20260304T093000
DTEND;TZID=Europe/Amsterdam:20260305T170000
DTSTAMP:20260419T151109
CREATED:20260103T084250Z
LAST-MODIFIED:20260103T084250Z
UID:10000224-1772616600-1772730000@bouwnieuwsvandaag.nl
SUMMARY:European Industrial Energy Days
DESCRIPTION:European Industrial Energy Days unites leaders from Europe’s most energy-intensive industries (steel\, cement\, chemicals\, paper\, glass\, metals\, among others) with policymakers and experts to shape the future of industrial energy and competitiveness. \nOver two days\, participants will explore how to secure affordable\, reliable energy while accelerating decarbonisation. The programme covers CCUS\, hydrogen\, electrification\, efficiency\, energy procurement\, and the policy frameworks transforming industry. \nWith high-level networking and practical insights\, the event is the go-to platform for industrial energy managers\, energy procurement managers\, and plant operators seeking strategies to stay competitive in a carbon-constrained world.
URL:https://bouwnieuwsvandaag.nl/event/european-industrial-energy-days/
LOCATION:Postillion Hotel & Convention Centre WTC Rotterdam\, Beursplein 37\, Rotterdam\, 3011 JS\, Netherlands
CATEGORIES:Congres
END:VEVENT
BEGIN:VEVENT
DTSTART;TZID=Europe/Amsterdam:20260311T083000
DTEND;TZID=Europe/Amsterdam:20260311T203000
DTSTAMP:20260419T151109
CREATED:20251230T091437Z
LAST-MODIFIED:20260103T081237Z
UID:10000031-1773217800-1773261000@bouwnieuwsvandaag.nl
SUMMARY:Dag van de Ingenieur
DESCRIPTION:Een wereld zonder ingenieurs is ondenkbaar. Al sinds de oudheid zijn het ingenieurs die met hun uitvindingen en innovaties de basis leggen voor vooruitgang. Ingenieurs combineren immers wetenschappelijke kennis met praktische oplossingen voor de uitdagingen van onze samenleving. In een wereld die steeds sneller verandert\, blijft de ingenieur een sleutelrol vervullen op uiteenlopende gebieden. \nIn de gezondheidszorg bijvoorbeeld\, spelen ingenieurs een cruciale rol. Denk aan scanners\, bestralingsapparatuur\, protheses en zelfs medische toepassingen uit moderne 3D-printers. Ook in de ruimtevaart leveren ingenieurs baanbrekende bijdragen\, waarvan de invloed reikt tot de luchtvaart\, klimaatonderzoek\, natuurrampenvoorspelling\, irrigatie van droge gebieden en de bewaking van onze waterveiligheid. Onze grenzeloze communicatie is zonder satelliettechnologie simpelweg onvoorstelbaar. \nEen ander gebied waar ingenieurs een steeds grotere impact hebben\, is AI-technologie (kunstmatige intelligentie). AI speelt een sleutelrol in talloze innovaties\, zoals autonome voertuigen\, geavanceerde diagnostische systemen in de gezondheidszorg en optimalisaties in energiebeheer. Ingenieurs ontwerpen en ontwikkelen AI-systemen die niet alleen de efficiëntie verhogen\, maar ook bijdragen aan de oplossing van complexe maatschappelijke problemen. \nOndanks deze essentiële bijdragen wordt het beroep van ingenieur in Nederland niet altijd naar waarde geschat\, zeker in vergelijking met landen als Duitsland\, België en Frankrijk. KIVI zet zich daarom in om de titel van Ingenieur te behouden naast de internationale titels Master of Science/Bachelor of Science. \nJaarlijks zoekt KIVI naar ‘Ingenieurs van het Jaar’: professionals die hun kennis inzetten voor maatschappelijke vraagstukken. De winnaars uit voorgaande jaren vormen een indrukwekkende galerij van inspirerende voorbeelden. \nIn 2022 werd\, mede op initiatief van Prinses Mabel\, de KIVI Engineering Student Team Award gelanceerd en aan het programma toegevoegd. Deze aanmoedigingsprijs voor studententeams stimuleert toekomstige ingenieurs om hun innovatieve projecten onder de aandacht te brengen en toont de kracht van samenwerking. \nVanaf 2024 is het KIVI-jaarcongres toegevoegd aan de Dag van de Ingenieur. Elk jaar richt het congres zich op een actueel thema dat aansluit bij de belangrijkste ontwikkelingen en uitdagingen van deze tijd\, zoals de energietransitie\, digitalisering\, duurzaamheid\, etc. \nDe Dag van de Ingenieur bestaat uit drie onderdelen: \n\nHet KIVI-jaarcongres\, dat in de ochtend en middag plaatsvindt en actuele onderwerpen belicht.\nDe uitreiking van de Prins Friso Ingenieursprijs\, een eerbetoon aan de ingenieur die een uitzonderlijke bijdrage levert aan de maatschappij.\nDe KIVI Engineering Student Team Award\, die jonge ingenieurs in opleiding in het zonnetje zet.\n\nHoewel deze onderdelen los van elkaar staan\, vormen zij samen een dag vol inspiratie en waardering voor het ingenieursvak. Een dag waarop innovatie\, samenwerking en maatschappelijke impact centraal staan – een ware viering van de kracht van ingenieurs.
URL:https://bouwnieuwsvandaag.nl/event/dag-van-de-ingenieur/
CATEGORIES:Congres
END:VEVENT
BEGIN:VEVENT
DTSTART;TZID=Europe/Amsterdam:20260311T093000
DTEND;TZID=Europe/Amsterdam:20260311T160000
DTSTAMP:20260419T151109
CREATED:20260103T073231Z
LAST-MODIFIED:20260103T073231Z
UID:10000205-1773221400-1773244800@bouwnieuwsvandaag.nl
SUMMARY:KIVI Jaarcongres
DESCRIPTION:Op woensdag 11 maart 2026 vindt  op de TU Eindhoven het Jaarcongres plaats. Deze editie staat in het teken van het thema ‘Blueprint for a Stronger Europe’ en richt zich volledig op innovatie\, betere samenwerking tussen EU-landen en het versterken van de positie van Europa in de wereld. De subthema’s zijn Defensie\, Digitalisering\, Energie en Mobiliteit. \nIn een tijd waarin samenwerking binnen Europa urgenter is dan ooit\, zet deze editie van het KIVI-jaarcongres de spotlight op innovatie als sleutel om onze positie ten opzichte van de Verenigde Staten en China te versterken. Tijdens het congres zoeken we samen naar antwoorden op belangrijke vragen: Hoe kan Europa via innovatie uit de crisis komen? In hoeverre is de technologiesector daadwerkelijk Europees georiënteerd? En welke sectoren kunnen als voorbeeld dienen voor de rest? \nVoor wie is het Jaarcongres?\nHet jaarcongres is voor iedereen die zich interesseert in technische innovaties\, dus zeker voor ingenieurs. Je hoeft geen specifieke opleiding te hebben\, KIVI-lid te zijn of te studeren. Iedereen die belangstelling heeft voor het thema\, technologie voor een gezondere wereld\, is welkom! Het jaarcongres is een unieke manier om bekenden en onbekenden te ontmoeten en van gedachten te wisselen. De voertaal van het Jaarcongres is Nederlands. Indien een presentatie in het Engels wordt gegeven\, wordt dit bij de betreffende presentatie vermeld.
URL:https://bouwnieuwsvandaag.nl/event/kivi-jaarcongres/
LOCATION:TU Eindhoven\, Het Eeuwsel 53\, Eindhoven\, 5612 AZ\, Netherlands
CATEGORIES:Congres
END:VEVENT
BEGIN:VEVENT
DTSTART;TZID=Europe/Amsterdam:20260311T140000
DTEND;TZID=Europe/Amsterdam:20260311T173000
DTSTAMP:20260419T151109
CREATED:20260205T124032Z
LAST-MODIFIED:20260205T124032Z
UID:10000262-1773237600-1773250200@bouwnieuwsvandaag.nl
SUMMARY:TloKB-congres ‘Van wet naar resultaat’
DESCRIPTION:Werkt u binnen het stelsel Kwaliteitsborging voor het bouwen (KB-stelsel) of draagt u op een andere wijze bij aan de bouwkwaliteit in Nederland? Kom dan op 11 maart 2026 naar het congres van de Toelatingsorganisatie Kwaliteitsborging Bouw (TloKB). Tijdens dit congres presenteert de TloKB de eerste inzichten in het KB-stelsel aan de hand van haar jaarverslag 2025. Bent u erbij? \n\n\n\nNa de start in januari 2024\, draaide het KB-stelsel in 2025 pas echt op volle toeren. In het jaarverslag van 2025 blikt de TloKB daarop terug. Daarmee is dit verslag het eerste inhoudelijke ijkpunt: wat zijn de eerste inzichten? Wat zeggen deze over de bouwkwaliteit op dit moment? En hoe gaan we als aannemers\, gemeenteambtenaren\, instrumentaanbieders\, kwaliteitsborgers en TloKB samen verder naar nog betere resultaten? \nDeze en andere vragen komen aan bod\, zodat we het KB-stelsel steeds beter laten werken. Daarbij gaan we dieper op de materie in bij diverse deelsessies. We kijken ernaar uit om u te verwelkomen. De komende weken krijgt u meer informatie over de invulling van het programma. \n\n\n\n\nProgramma:\n\n14.00 uur Inloop en ontvangst met koffie en thee\n14.30 uur Plenaire opening met bestuursvoorzitter Yvonne van Mastrigt\n14.40 uur Presentatie jaarverslag- van wet naar resultaat\n15.30 uur Deelsessies\n16.45 uur Plenaire afsluiting\, borrel en napraten
URL:https://bouwnieuwsvandaag.nl/event/tlokb-congres-van-wet-naar-resultaat/
LOCATION:Mariënhof Amersfoort\, Kleine Haag 2\, Amersfoort\, 3811 HE
CATEGORIES:Congres
END:VEVENT
BEGIN:VEVENT
DTSTART;TZID=Europe/Amsterdam:20260325T130000
DTEND;TZID=Europe/Amsterdam:20260325T180000
DTSTAMP:20260419T151109
CREATED:20260103T131319Z
LAST-MODIFIED:20260103T131319Z
UID:10000240-1774443600-1774461600@bouwnieuwsvandaag.nl
SUMMARY:Nationaal BREEAM Congres
DESCRIPTION:Op 25 maart 2026 verwelkomen we je graag opnieuw in het indrukwekkende AFAS Experience Center in Leusden voor hét nationale BREEAM Congres. Een dag vol inspiratie\, kennisdeling en ontmoetingen met professionals die samen bouwen aan een duurzamere toekomst. Zet de datum alvast in je agenda. En houd deze pagina goed in de gaten voor updates over het programma. We kijken ernaar uit om elkaar daar weer te ontmoeten!
URL:https://bouwnieuwsvandaag.nl/event/nationaal-breeam-congres/
LOCATION:AFAS Theater Leusden\, Inspiratielaan 1\, Leusden\, 3833 AV\, Netherlands
CATEGORIES:Congres
ORGANIZER;CN="DGBC &#8211%3B Dutch Green Building Council":MAILTO:info@dgbc.nl
END:VEVENT
BEGIN:VEVENT
DTSTART;TZID=Europe/Amsterdam:20260326T123000
DTEND;TZID=Europe/Amsterdam:20260326T173000
DTSTAMP:20260419T151109
CREATED:20260103T152931Z
LAST-MODIFIED:20260103T152931Z
UID:10000244-1774528200-1774546200@bouwnieuwsvandaag.nl
SUMMARY:Dag van de wet- & regelgeving
DESCRIPTION:Tijdens deze dag worden de wijzigingen in het nieuwe zakboekje “Wet- & regelgeving bestaande gebouwen en installaties” nader toegelicht. Meerdere onderwerpen uit nationale en Europese regelgeving komen aan de orde\, zoals de Omgevingswet\, het Bbl\, Elektrotechnische veiligheid en NEN3140\, het inzetten van AI\, energiebesparingsplicht en de energietransitie volgens EPBD IV. Ook worden praktijkervaringen op het gebied van compliance gedeeld alsmede interessante jurisprudentie hieromtrent. \nDe “Dag van de wet- & regelgeving” richt zich op actuele wet- & regelgeving voor bestaande gebouwen en installaties. Laat je op een frisse en praktische manier meenemen in de wereld van wet- en regelgeving door diverse specialisten. Het event staat onder leiding van de gedreven dagvoorzitter Esther van der Voort. We sluiten het event af met een gezellige netwerkborrel. \nNa deze middag ben je volledig op de hoogte van de actuele wet- & regelgeving en weet je waar je het komende jaar op moet letten. \n\n\n\n\nVoor wie is het bestemd? \nDe dag van de wet- & regelgeving organiseren we voor gebouwbeheerders en -eigenaren\, facility managers\, technische beheerders\, asset managers\, vastgoedbeheerders en -managers\, portfoliomanagers en overige geïnteresseerden.
URL:https://bouwnieuwsvandaag.nl/event/dag-van-de-wet-regelgeving/
LOCATION:Kinepolis\, Jaarbeursboulevard 300\, Utrecht
CATEGORIES:Congres
ORGANIZER;CN="Building G100":MAILTO:info@buildingg100.nl
END:VEVENT
END:VCALENDAR