BEGIN:VCALENDAR
VERSION:2.0
PRODID:-//BouwNieuwsVandaag - ECPv6.15.20//NONSGML v1.0//EN
CALSCALE:GREGORIAN
METHOD:PUBLISH
X-WR-CALNAME:BouwNieuwsVandaag
X-ORIGINAL-URL:https://bouwnieuwsvandaag.nl
X-WR-CALDESC:Evenementen voor BouwNieuwsVandaag
REFRESH-INTERVAL;VALUE=DURATION:PT1H
X-Robots-Tag:noindex
X-PUBLISHED-TTL:PT1H
BEGIN:VTIMEZONE
TZID:Europe/Amsterdam
BEGIN:DAYLIGHT
TZOFFSETFROM:+0100
TZOFFSETTO:+0200
TZNAME:CEST
DTSTART:20260329T010000
END:DAYLIGHT
BEGIN:STANDARD
TZOFFSETFROM:+0200
TZOFFSETTO:+0100
TZNAME:CET
DTSTART:20261025T010000
END:STANDARD
BEGIN:DAYLIGHT
TZOFFSETFROM:+0100
TZOFFSETTO:+0200
TZNAME:CEST
DTSTART:20270328T010000
END:DAYLIGHT
BEGIN:STANDARD
TZOFFSETFROM:+0200
TZOFFSETTO:+0100
TZNAME:CET
DTSTART:20271031T010000
END:STANDARD
BEGIN:DAYLIGHT
TZOFFSETFROM:+0100
TZOFFSETTO:+0200
TZNAME:CEST
DTSTART:20280326T010000
END:DAYLIGHT
BEGIN:STANDARD
TZOFFSETFROM:+0200
TZOFFSETTO:+0100
TZNAME:CET
DTSTART:20281029T010000
END:STANDARD
END:VTIMEZONE
BEGIN:VEVENT
DTSTART;TZID=Europe/Amsterdam:20271007T093000
DTEND;TZID=Europe/Amsterdam:20271007T180000
DTSTAMP:20260420T031145
CREATED:20250705T030325Z
LAST-MODIFIED:20251211T155835Z
UID:10000110-1822901400-1822932000@bouwnieuwsvandaag.nl
SUMMARY:Smart Buildings event
DESCRIPTION:Smart Buildings is hét event over gebouwautomatisering voor en door eindgebruikers en wordt georganiseerd door Building G100. \nHet event wordt ondersteund door het eindgebruikersplatform Building G100. Ook de leden/eindgebruikers zullen dit event blijven bezoeken. Bewust is gekozen voor de nieuwe naam Smart Buildings event. We maken hiermee een beter onderscheid tussen het platform en het event waar leveranciers\, fabrikanten\, installateurs\, adviseurs en system-integrators hun innovaties tonen. Daarnaast is Smart Buildings het begrip waar het de komende jaren bij bezoekers om draait. Eindgebruikers zijn bezig om hun gebouwen en installaties te verduurzamen en “smart” te maken. \nUnieke concept\nSmart Buildings event kent een uniek concept. Het is gemaakt door eindgebruikers\, voor eindgebruikers. En ook alleen zij kunnen Smart Buildings gratis bezoeken. Aanbieders tonen op een centrale plaza hun innovaties op het gebied van Smart Buildings. Daarnaast vinden er tientallen presentaties plaats in speciaal ingerichte “huiskamers”. Hier verzorgen onze partners ieder half uur presentaties in een kleine setting waar maximaal 10 bezoekers aan deel kunnen nemen. Hiermee stimuleren we de interactie tussen de bezoeker en de partner. In totaal vinden er dus meer dan 100 lezingen plaats en kan de bezoeker zelf zijn/haar programma samenstellen. \nSmart Buildings is powered by Building G100\nDe Building G100 is een leveranciersonafhankelijk eindgebruikersplatform voor personen die zich bezig houden het management\, beheer en onderhoud van gebouwautomatisering en -managementsystemen. \nMeer informatie \n 
URL:https://bouwnieuwsvandaag.nl/event/smart-buildings-event/
CATEGORIES:Congres
ORGANIZER;CN="SmartBuildings":MAILTO:info@SmartBuildings.nl
END:VEVENT
END:VCALENDAR