BEGIN:VCALENDAR
VERSION:2.0
PRODID:-//BouwNieuwsVandaag - ECPv6.15.20//NONSGML v1.0//EN
CALSCALE:GREGORIAN
METHOD:PUBLISH
X-ORIGINAL-URL:https://bouwnieuwsvandaag.nl
X-WR-CALDESC:Evenementen voor BouwNieuwsVandaag
REFRESH-INTERVAL;VALUE=DURATION:PT1H
X-Robots-Tag:noindex
X-PUBLISHED-TTL:PT1H
BEGIN:VTIMEZONE
TZID:Europe/Amsterdam
BEGIN:DAYLIGHT
TZOFFSETFROM:+0100
TZOFFSETTO:+0200
TZNAME:CEST
DTSTART:20250330T010000
END:DAYLIGHT
BEGIN:STANDARD
TZOFFSETFROM:+0200
TZOFFSETTO:+0100
TZNAME:CET
DTSTART:20251026T010000
END:STANDARD
BEGIN:DAYLIGHT
TZOFFSETFROM:+0100
TZOFFSETTO:+0200
TZNAME:CEST
DTSTART:20260329T010000
END:DAYLIGHT
BEGIN:STANDARD
TZOFFSETFROM:+0200
TZOFFSETTO:+0100
TZNAME:CET
DTSTART:20261025T010000
END:STANDARD
BEGIN:DAYLIGHT
TZOFFSETFROM:+0100
TZOFFSETTO:+0200
TZNAME:CEST
DTSTART:20270328T010000
END:DAYLIGHT
BEGIN:STANDARD
TZOFFSETFROM:+0200
TZOFFSETTO:+0100
TZNAME:CET
DTSTART:20271031T010000
END:STANDARD
BEGIN:DAYLIGHT
TZOFFSETFROM:+0100
TZOFFSETTO:+0200
TZNAME:CEST
DTSTART:20280326T010000
END:DAYLIGHT
BEGIN:STANDARD
TZOFFSETFROM:+0200
TZOFFSETTO:+0100
TZNAME:CET
DTSTART:20281029T010000
END:STANDARD
END:VTIMEZONE
BEGIN:VEVENT
DTSTART;TZID=Europe/Amsterdam:20261008T130000
DTEND;TZID=Europe/Amsterdam:20261008T190000
DTSTAMP:20260419T234056
CREATED:20241007T063728Z
LAST-MODIFIED:20251230T134317Z
UID:10000008-1791464400-1791486000@bouwnieuwsvandaag.nl
SUMMARY:✅ Staalbouwdag (tip)
DESCRIPTION:De Staalbouwdag is hét jaarlijkse vakevenement voor iedereen die betrokken is bij het opdrachtgeven\, ontwerpen en bouwen met staal. Het is de dag voor kennis en kennissen: bekenden treffen\, nieuwe relaties aanknopen én kennisnemen van belangrijke\, actuele ontwikkelingen trends in de (staal)bouw. Bent u dit jaar ook (weer) bij? \nDe bezoekers van de Staalbouwdag zijn werkzaam als directeur\, staffunctionaris\, afdelingshoofd\, inkoper\, adviseur\, ontwerper of projectleider bij architectenbureaus\, adviesbureaus\, ingenieursbureaus\, bouwondernemingen\, staalconstructiebedrijven\, overheden en professionele opdrachtgevers zoals projectontwikkelingsmaatschappijen en woningcorporaties. \nZij komen naar de Staalbouwdag om elkaar te ontmoeten\, kennis te nemen van de belangrijke\, actuele thema’s en trends in de staalbouw én kennis te maken met uw bedrijf. Daarmee biedt de Staalbouwdag hét podium om uw bedrijf persoonlijk te presenteren aan zo’n 1.300 bezoekers. De vakbeurs van de Staalbouwdag levert een exposé van nieuwe en vernieuwende diensten\, producten en projecten van bedrijven en instellingen voor het ontwerpen en bouwen met staal. \nWie zijn de bezoekers van de Staalbouwdag?\nDirecteuren\, staffunctionarissen\, afdelingshoofden\, inkopers\, adviseurs en projectleiders bij architectenbureaus\, adviesbureaus\, ingenieursbureaus\, bouwondernemingen\, staalconstructiebedrijven en professionele opdrachtgevers. Gericht op de afnemersmarkten: \n\nstaalbewerking en -verwerking\noppervlaktebehandeling\nverbinden\, lassen en bevestigingsmiddelen\nvloersystemen en dak- & gevelmaterialen\nbrandwerende materialen\nstalen halffabrikaten\nbouwmaterieel\nontwerp- en rekensoftware\ningenieursdiensten\nonderzoek en opleidingen\npersoneelswerving en -selectie\n\nWat wil de bezoeker?\nVoor de beslissers in de (staal)bouw is de Staalbouwdag hét informatieve dagje uit: nieuwe kennis vergaren\, inzichten delen\, vakgenoten ontmoeten\, nieuwe relaties aanknopen en investeren in nieuwe producten en diensten. Ze zijn onder meer geïnteresseerd in: \n\nAutomatisering van ontwerp en productie\nNieuwe soorten\, kwaliteiten en toepassingen van staal • Duurzaamheid en circulaire economie\nConstructieve veiligheid en brandveiligheid\nVernieuwende concepten en methoden in architectuur en constructief ontwerp\nNieuwe producten en diensten voor het ontwerpen en bouwen met staal\n\nMeer informatie over de Staalbouwdag
URL:https://bouwnieuwsvandaag.nl/event/%e2%9c%85-staalbouwdag-tip/
LOCATION:AFAS Theater Leusden\, Inspiratielaan 1\, Leusden\, 3833 AV\, Netherlands
CATEGORIES:Congres
ORGANIZER;CN="Bouwen met Staal":MAILTO:info@bouwenmetstaal.nl
END:VEVENT
BEGIN:VEVENT
DTSTART;TZID=Europe/Amsterdam:20261028T093000
DTEND;TZID=Europe/Amsterdam:20261028T170000
DTSTAMP:20260419T234056
CREATED:20260103T132016Z
LAST-MODIFIED:20260103T132016Z
UID:10000241-1793179800-1793206800@bouwnieuwsvandaag.nl
SUMMARY:D-Day
DESCRIPTION:Een unieke dag waar doeners\, denkers en veranderaars samenkomen om richting te geven aan de digitale toekomst van de gebouwde omgeving. Het event gaat over het oplossen van belangrijke vraagstukken: \n\nHet versnellen van woningbouw\nHet grootschalig onderhoud van infrastructuur\,\nHet standaardiseren en uitwisselen van product-\, materiaal- en milieudata\,\nHet digitaal vaardiger maken van professionals in de keten.
URL:https://bouwnieuwsvandaag.nl/event/d-day/
CATEGORIES:Congres
END:VEVENT
BEGIN:VEVENT
DTSTART;TZID=Europe/Amsterdam:20261119T080000
DTEND;TZID=Europe/Amsterdam:20261119T170000
DTSTAMP:20260419T234056
CREATED:20260205T124605Z
LAST-MODIFIED:20260205T124605Z
UID:10000263-1795075200-1795107600@bouwnieuwsvandaag.nl
SUMMARY:Jaarevent Koninklijke NLingeneurs
DESCRIPTION:Tijdens het jaarevent van Koninklijke NLingeneurs staan ontmoeten\, verdiepen en samen vooruitkijken centraal. We laten ons inspireren door de kracht van samenwerking en door duurzaam ingenieurswerk\, nu en in de toekomst. \nHet programma bestaat uit een plenaire bijeenkomst met een keynote van Alex van Hooff en de pitches van de Doe & Durf Competitie van JongNLingenieurs. Daarnaast is er volop keuze uit verdiepende activiteiten\, zoals een technische rondleiding achter de schermen\, een lezing van de ontwerper van Burgers’ Zoo of een inspiratiewandeling\, bijvoorbeeld rondom biomimicry. \nDe themasessies worden inhoudelijk verzorgd door onze communities en sluiten aan bij actuele onderwerpen die van belang zijn voor de ingenieursbranche. Zo biedt het event ruimte voor kennisdeling\, discussie en het ontstaan van nieuwe idee?n. Tussen de programmaonderdelen door is er uitgebreid gelegenheid om bij te praten met collega’s\, opdrachtgevers\, samenwerkingspartners en andere stakeholders tijdens de gezamenlijke lunch en de afsluitende borrel.
URL:https://bouwnieuwsvandaag.nl/event/jaarevent-koninklijke-nlingeneurs/
LOCATION:Burgers’ Zoo\, Antoon van Hooffplein 1\, Arnhem\, 6816 SH
CATEGORIES:Congres
ORGANIZER;CN="NLingenieurs":MAILTO:info@NLingenieurs.nl
END:VEVENT
BEGIN:VEVENT
DTSTART;TZID=Europe/Amsterdam:20261203T100000
DTEND;TZID=Europe/Amsterdam:20261203T170000
DTSTAMP:20260419T234056
CREATED:20251117T123923Z
LAST-MODIFIED:20260103T085011Z
UID:10000121-1796292000-1796317200@bouwnieuwsvandaag.nl
SUMMARY:Sheet Metal Event
DESCRIPTION:De buis- en plaatindustrie maakt een interessante ontwikkeling door. Bedrijven staan voor uitdagingen zoals het werken met kleinere batchgroottes en het produceren van complexe\, hoog precieze samenstellingen. Deze veranderingen vragen om flexibele productieprocessen en een gestroomlijnde aanpak die productiviteit verhoogt en kosten per onderdeel verlaagt. Maar hoe pak je dit als bedrijf aan? Wat zijn de ervaringen en oplossingen van andere spelers in het veld? \nOp 6 maart 2025 komt alles samen tijdens het Sheet Metal Event: een kennis- en netwerkevenement dat volledig draait om de dunne plaat- en buislasertechniek. biedt een unieke kans om in een dynamische setting kennis op te doen en inzichten te delen. \nWat staat je te wachten tijdens dit kennis- en netwerkevenement?\n\nPraktische workshops en inspirerende sessies met experts\nVerdieping in fijnplaatwerk en buislasertechnieken\nNetwerkmogelijkheden met vakgenoten\nLeren van successen en uitdagingen van anderen\nOntdekken van nieuwe technologieën en inzichten in hedendaagse uitdagingen\n\nOntmoet professionals uit de buis- en plaatindustrie\nSheet Metal Event is interessant voor iedere plaatbewerker en -verwerker die het productieproces efficiënter en effectiever wil maken. Denk hierbij aan: \n\nOntwerpers\nEngineers\nBedrijfsleiders\nHoofd werkvoorbereiding\nProductiemanagers\nDirectie
URL:https://bouwnieuwsvandaag.nl/event/sheet-metal-event/
LOCATION:Brabanthallen Den Bosch\, Diezekade 2\, 's-Hertogenbosch\, Nederland\, 5222 AK\, Netherlands
CATEGORIES:Congres
END:VEVENT
BEGIN:VEVENT
DTSTART;TZID=Europe/Amsterdam:20271007T093000
DTEND;TZID=Europe/Amsterdam:20271007T180000
DTSTAMP:20260419T234056
CREATED:20250705T030325Z
LAST-MODIFIED:20251211T155835Z
UID:10000110-1822901400-1822932000@bouwnieuwsvandaag.nl
SUMMARY:Smart Buildings event
DESCRIPTION:Smart Buildings is hét event over gebouwautomatisering voor en door eindgebruikers en wordt georganiseerd door Building G100. \nHet event wordt ondersteund door het eindgebruikersplatform Building G100. Ook de leden/eindgebruikers zullen dit event blijven bezoeken. Bewust is gekozen voor de nieuwe naam Smart Buildings event. We maken hiermee een beter onderscheid tussen het platform en het event waar leveranciers\, fabrikanten\, installateurs\, adviseurs en system-integrators hun innovaties tonen. Daarnaast is Smart Buildings het begrip waar het de komende jaren bij bezoekers om draait. Eindgebruikers zijn bezig om hun gebouwen en installaties te verduurzamen en “smart” te maken. \nUnieke concept\nSmart Buildings event kent een uniek concept. Het is gemaakt door eindgebruikers\, voor eindgebruikers. En ook alleen zij kunnen Smart Buildings gratis bezoeken. Aanbieders tonen op een centrale plaza hun innovaties op het gebied van Smart Buildings. Daarnaast vinden er tientallen presentaties plaats in speciaal ingerichte “huiskamers”. Hier verzorgen onze partners ieder half uur presentaties in een kleine setting waar maximaal 10 bezoekers aan deel kunnen nemen. Hiermee stimuleren we de interactie tussen de bezoeker en de partner. In totaal vinden er dus meer dan 100 lezingen plaats en kan de bezoeker zelf zijn/haar programma samenstellen. \nSmart Buildings is powered by Building G100\nDe Building G100 is een leveranciersonafhankelijk eindgebruikersplatform voor personen die zich bezig houden het management\, beheer en onderhoud van gebouwautomatisering en -managementsystemen. \nMeer informatie \n 
URL:https://bouwnieuwsvandaag.nl/event/smart-buildings-event/
CATEGORIES:Congres
ORGANIZER;CN="SmartBuildings":MAILTO:info@SmartBuildings.nl
END:VEVENT
END:VCALENDAR