BEGIN:VCALENDAR
VERSION:2.0
PRODID:-//BouwNieuwsVandaag - ECPv6.15.20//NONSGML v1.0//EN
CALSCALE:GREGORIAN
METHOD:PUBLISH
X-WR-CALNAME:BouwNieuwsVandaag
X-ORIGINAL-URL:https://bouwnieuwsvandaag.nl
X-WR-CALDESC:Evenementen voor BouwNieuwsVandaag
REFRESH-INTERVAL;VALUE=DURATION:PT1H
X-Robots-Tag:noindex
X-PUBLISHED-TTL:PT1H
BEGIN:VTIMEZONE
TZID:Europe/Amsterdam
BEGIN:DAYLIGHT
TZOFFSETFROM:+0100
TZOFFSETTO:+0200
TZNAME:CEST
DTSTART:20240331T010000
END:DAYLIGHT
BEGIN:STANDARD
TZOFFSETFROM:+0200
TZOFFSETTO:+0100
TZNAME:CET
DTSTART:20241027T010000
END:STANDARD
BEGIN:DAYLIGHT
TZOFFSETFROM:+0100
TZOFFSETTO:+0200
TZNAME:CEST
DTSTART:20250330T010000
END:DAYLIGHT
BEGIN:STANDARD
TZOFFSETFROM:+0200
TZOFFSETTO:+0100
TZNAME:CET
DTSTART:20251026T010000
END:STANDARD
BEGIN:DAYLIGHT
TZOFFSETFROM:+0100
TZOFFSETTO:+0200
TZNAME:CEST
DTSTART:20260329T010000
END:DAYLIGHT
BEGIN:STANDARD
TZOFFSETFROM:+0200
TZOFFSETTO:+0100
TZNAME:CET
DTSTART:20261025T010000
END:STANDARD
END:VTIMEZONE
BEGIN:VEVENT
DTSTART;TZID=Europe/Amsterdam:20250205T140000
DTEND;TZID=Europe/Amsterdam:20250205T190000
DTSTAMP:20260423T182835
CREATED:20251230T091438Z
LAST-MODIFIED:20251230T091438Z
UID:10000029-1738764000-1738782000@bouwnieuwsvandaag.nl
SUMMARY:Kolomvoetplaten
DESCRIPTION:Bouwen met Staal organiseerde samen met Hilti Nederland en IDEA in november een seminar over het ontwerpen en berekenen van kolomvoetplaten. Omdat deze eerste editie al snel was volgeboekt\, is besloten om in februari 2025 een tweede editie te organiseren. De aanleiding… De wijze waarop kolomvoetplaatverbindingen worden ontworpen en berekend moeten worden\, is nog steeds voor veel constructeurs een onduidelijk gebied op het snijvlak tussen staal en beton. \nOmschrijving\nNa het welkomstwoord geeft Arco de Gelder een inleiding over de verschillende ontwerpmethoden die er vanuit de Eurocodes beschikbaar zijn en hoe deze kunnen worden toegepast. Arco heeft recent hierover samen met Marcel van Odenhoven een aantal artikelen in het vakblad Bouwen met Staal gepubliceerd. Daarna zullen Hilti en IDEA hun aanpak voor zowel geboorde als voor ingestorte ankers tonen. Doel van het seminar is om meer inzicht te geven in het gedrag van de verschillende verankeringsmethoden. \nIDEA StatiCa zal de laatste ontwikkelingen tonen\, zoals de controle volgens NEN-EN 1993-1-8 en het ontwerp van een complexe voetplaatverbinding inclusief funderingsblok met 3D eindige-elementenmethode (EEM). Hilti verzorgt een lezing een geeft in hun laboratorium verschillende demonstraties over het toepassen van geboorde ankers.In het programma is veel ruimte om met elkaar te discussiëren over dit interessante onderwerp. Aan het eind geeft hoogleraar staalconstructies aan de TU Delft Milan Veljkovic een samenvatting van de middag en schetst hij een beeld van ontwikkelingen op het gebied van de normontwikkeling in staal. Hilti en IDEA nodigen u uit om na afloop van het seminar nog een hapje te blijven eten. Deelname aan het seminar is gratis en levert 1 punt op voor het Constructeursregister. \nEen middag die u als constructeur niet mag en kan missen! \nVoor wie\nVoor constructief ontwerpers\, constructeurs\, staalbouwers\, bouwplantoetsers\, bouwers en docenten. \nNiveau\nMBO\, HBO en WO. \nKenniseenheden\nRegister-ontwerpers en register-constructeurs ontvangen 1 punt voor permanente educatie of kenniseenheden (KE/PE-punten) voor toetsing voor toetreding tot het Constructeursregister.
URL:https://bouwnieuwsvandaag.nl/event/kolomvoetplaten/
LOCATION:Hilti Nederland\, Leeuwenhoekstraat 4\, Berkel en Rodenrijs\, 2652 XL
CATEGORIES:Seminar
ORGANIZER;CN="Bouwen met Staal":MAILTO:info@bouwenmetstaal.nl
END:VEVENT
BEGIN:VEVENT
DTSTART;TZID=Europe/Amsterdam:20250206T120000
DTEND;TZID=Europe/Amsterdam:20250206T170000
DTSTAMP:20260423T182835
CREATED:20251230T091438Z
LAST-MODIFIED:20251230T091438Z
UID:10000055-1738843200-1738861200@bouwnieuwsvandaag.nl
SUMMARY:Beter Benutten: Optoppen
DESCRIPTION:Optoppen\, uitplinten en aanplakken vormen een belangrijke oplossing voor het grote woningtekort. Met het programma ‘Beter Benutten’ van het nieuwe Ministerie van VRO ligt de focus op het beter inzetten van de bestaande woningvoorraad door een extra woonlaag op het dak te plaatsen of aan het gebouw te plakken en zelfs de begane grond uit te bouwen. Op basis van recent onderzoek van Stec Groep kunnen daarmee maar liefst 100.000 extra woningen gerealiseerd worden. \nDaarom is net voor de zomer het programma Landelijke Aanpak Optoppen gelanceerd. Nieuw hierin is gestandaardiseerd optoppen\, met grote schaalvoordelen. Waar liggen de kansen en mogelijkheden voor woningbouw? Daarover organiseert SPRYG Real Estate Academy op 6 februari in Den Haag de actuele studiemiddag Beter Benutten: Optoppen 2025. In één middag geven topexperts praktische inzichten en concrete handvatten voor een succesvolle optop-aanpak. Met zelfs een actuele update van het Ministerie van VRO over het Landelijk Actieplan Optoppen. \nOnder leiding van Esther Geuting (Stec Groep) delen vooraanstaande optoppers een actueel overzicht: hoe werkt optoppen in de praktijk? Wat zijn kansrijke gebouwen? Wat zijn de juridische aspecten? Hoe maakt u het financieel haalbaar? Hoe kunnen we opschalen? Wat zijn de lessons learned? Met optoppers van Provincie Zuid-Holland\, Gemeente Rotterdam\, VORM\, Zuyd Advocaten\, Royal HaskoningDHV\, Van der Bouw en gedeputeerde van Provincie Gelderland. Waar liggen de kansen en aandachtspunten voor optoppen? \nDe studiemiddag Beter Benutten: Optoppen 2025 vindt plaats op 6 februari in Den Haag. Overheden\, woningcorporaties en zorginstellingen genieten een gereduceerd deelnametarief. Voor meer informatie en registratie kunt u terecht op www.spryg.com/optoppen \nKosten: €699\,- (excl. btw) per deelnemer
URL:https://bouwnieuwsvandaag.nl/event/beter-benutten-optoppen/
LOCATION:New Babylon Meeting Center\, Anna van Buerenplein 29\, Den Haag\, 2595 DA\, Netherlands
CATEGORIES:Seminar
ORGANIZER;CN="SPRYG Real Estate Academy":MAILTO:info@spryg.com
END:VEVENT
BEGIN:VEVENT
DTSTART;TZID=Europe/Amsterdam:20250206T120000
DTEND;TZID=Europe/Amsterdam:20250206T170000
DTSTAMP:20260423T182835
CREATED:20251230T091438Z
LAST-MODIFIED:20251230T091438Z
UID:10000056-1738843200-1738861200@bouwnieuwsvandaag.nl
SUMMARY:Beton Café
DESCRIPTION:Benieuwd hoe jouw organisatie zich kan voorbereiden op het werken van de toekomst? Een toekomst waarin technologie en automatisering steeds meer taken overnemen\, maar vakmanschap en basisvaardigheden onmisbaar blijven.\nKom op donderdag 6 februari naar het Beton Café en ontdek welke kennis en vaardigheden essentieel zijn voor succes in de bouw- en technieksector. Onze gastspreker deelt een visie over de belangrijkste trends en waarom vakmanschap en technische expertise ook op de werkplek van 2050 onmisbaar blijven. \nNa een inlooplunch volgt eerst een plenaire sessie en daarna een interactieve sessie waarin je praktische tips krijgt om de kennis en vaardigheden binnen jouw organisatie verder te ontwikkelen. We sluiten zoals altijd af met een netwerkborrel. De ideale gelegenheid om na te praten en nieuwe contacten te leggen! \n\n\n\nVoorlopig programma\n12.00 – 13.00 Ontvangst met inlooplunch\n13:00 – 13:15 Welkomstwoord en introductie\n13:15 – 14:00 Keynotespreker\n14.00 – 14.15 Pauze\n14.15 – 15.00 Break-out sessies: actief aan de slag\n15.00 – 16.00 Plenaire terugkoppeling\n16.00 – 17.00 Afsluiting met netwerkborrel \nHoud onze website en socials in de gaten voor de bekendmaking van onze keynotespreker. Deze bijeenkomst wil je zeker niet missen! Meld je daarom nu alvast aan voor het Beton Café!
URL:https://bouwnieuwsvandaag.nl/event/beton-cafe/
LOCATION:Fifth NRE Eindhoven\, Gasfabriek 5\, Eindhoven\, 5613 CP\, Nederland
CATEGORIES:Seminar
ORGANIZER;CN="Betonvereniging":MAILTO:info@betonvereniging.nl
END:VEVENT
BEGIN:VEVENT
DTSTART;TZID=Europe/Amsterdam:20250210T143000
DTEND;TZID=Europe/Amsterdam:20250210T163000
DTSTAMP:20260423T182835
CREATED:20251230T091438Z
LAST-MODIFIED:20251230T091438Z
UID:10000058-1739197800-1739205000@bouwnieuwsvandaag.nl
SUMMARY:KAN serious game ‘BodemBouwers’
DESCRIPTION:Spelenderwijs ontdekken hoe water en bodem gebiedsontwikkeling en ruimtelijke inrichting beïnvloeden? Dat kan met de serious game ‘BodemBouwers’. \nTijdens deze KAN-bijeenkomst\, op 10 februari van 14.30 uur tot 16.30 uur in het kantoor van NEPROM/WoningBouwersNL\, staat kennis van en bewustwording over de relatie tussen landgebruik en het water- en bodemsysteem centraal. Als deelnemer maak je ruimtelijke keuzes vanuit het aspect ‘water en bodem’\, met behulp van zogenaamde ‘bodemlabels’. Deze bodemlabels maken inzichtelijk dat elke bovengrondse ontwikkeling impact heeft op de ondergrond en de bodemkwaliteit. \nDe spelers staan voor de uitdaging om het gebied toekomstbestendig te maken. Daarbij is het voor de leefbaarheid belangrijk dat er genoeg opgaven gerealiseerd worden\, én dat er een gezond en vitaal water- en bodemsysteem ontstaat met goed scorende bodemlabels. \nNa afloop van het spel slaan we een verdiepingsslag door het bespreken van het concept bodemlabels (m.b.v. de online webtool). Dit draagt bij aan het voeren van het juiste gesprek over ruimtelijke inrichting en helpt bij het maken van slimme keuzes. Wat kan het spel ons leren over de opgaven waar we voor staan? \nDeelnemen aan dit spel brengt jou als ontwerper\, ontwikkelaar of beleidsmaker tot nieuwe inzichten\, en het geeft je meer inzicht in de leefwereld van je partners. Bovendien kom je tot mooie nieuwe ontwerp-oplossingen! \nVoor wie\nDeze bijeenkomst is gericht op ontwikkelaars\, stedenbouwkundigen\, landschapsarchitecten\, gemeenten\, waterschappen en anderen die op professionele wijze bezig zijn met bodem en water in nieuwbouwprojecten. Er is plek voor maximaal 12 deelnemers. Bij overinschrijving selecteren we om een goede mix te krijgen. \nDatum: Maandag 10 februari van 14.30 uur tot 16.30 uur.\nLocatie: Kantoor NEPROM/WoningBouwersNL in Den Haag\nKosten: Aan deelname zijn geen kosten verbonden.
URL:https://bouwnieuwsvandaag.nl/event/kan-serious-game-bodembouwers/
CATEGORIES:Seminar
ORGANIZER;CN="NEPROM":MAILTO:info@neprom.nl
END:VEVENT
BEGIN:VEVENT
DTSTART;TZID=Europe/Amsterdam:20250211T090000
DTEND;TZID=Europe/Amsterdam:20250211T150000
DTSTAMP:20260423T182835
CREATED:20251230T091438Z
LAST-MODIFIED:20251230T091438Z
UID:10000059-1739264400-1739286000@bouwnieuwsvandaag.nl
SUMMARY:Vastgoed Seminar voor woningcorporaties
DESCRIPTION:CorporatieMedia\, bekend van de Bedrijfsvoering & ICT-Innovatiebeurs CorporatiePlein\, CorporatieGids Platform\, de CorporatieGids LIVE kennisdagen en uitgever van CorporatieGids Magazine\, organiseert op 11 februari 2025 het Corporatie Vastgoed Seminar voor woningcorporaties. \nHet Corporatie Vastgoed Seminar vindt plaats in het zalencomplex op de eerste etage van Expo Houten en wordt georganiseerd voor directeuren\, managers en medewerkers van woningcorporaties\, werkzaam in Vastgoed\, Onderhoud\, Verduurzamen en Wonen. \nHet programma bestaat uit een plenaire kick-off\, waarna de bezoekers in drie tijdronden kunnen kiezen uit twee parallelsessies. De actuele en informatieve sessies worden afgewisseld met ruime pauzes\, zodat er ook tijd is om te netwerken en kennis op te doen bij leveranciers en adviseurs op het Corporatie VastgoedPlein. Uiteraard zorgen wij gedurende de dag voor koffie\, thee\, fris en tijdens de lunchpauze een heerlijke lunch. \nHet VastgoedPlein is geopend vanaf 09.00 uur. De kick-off sessie van het seminar start om 09.45 uur. Het programma duurt tot 15.00 uur.
URL:https://bouwnieuwsvandaag.nl/event/vastgoed-seminar-voor-woningcorporaties/
LOCATION:Expo Houten\, Meidoornkade 24\, Houten\, 3992 AE\, Nederland
CATEGORIES:Seminar
END:VEVENT
BEGIN:VEVENT
DTSTART;TZID=Europe/Amsterdam:20250211T133000
DTEND;TZID=Europe/Amsterdam:20250211T160000
DTSTAMP:20260423T182835
CREATED:20251230T091438Z
LAST-MODIFIED:20251230T091438Z
UID:10000075-1739280600-1739289600@bouwnieuwsvandaag.nl
SUMMARY:Opening Proeftuin Office Lab
DESCRIPTION:Onze (kantoor)gebouwen hebben een flinke verduurzamingsslag nodig voordat ze toekomstbestendig zijn. Er is behoefte aan duurzame materialen\, energie-efficiënte systemen en klimaatadaptieve oplossingen. Waar kun je beginnen en welke rol kan proeftuin Office Lab spelen? \nDeze dag staat in het teken van het ontdekken van concrete oplossingen en mogelijkheden voor testen en onderzoeken in het Office Lab. Biobased behang\, circulaire innovaties\, energie-efficiënte klimaatsytemen\, modulaire bouw\, waterbesparende en klimaatadaptieve maatregelen. \nTim Jonathan – Manager operaties & realisaties – geeft je de ins en outs over deze nieuwe proeftuin en vertelt over de inspirerende innovaties die er al in zitten. \nVervolgens duiken we met een aantal pioniers in de wereld van duurzaam innoveren\, waarna het tijd is om zelf een kijkje in de nieuwe proeftuin te nemen. De middag sluiten we samen af met een vega netwerkborrel. \n\n\n\n\nProgramma\n\n\n\n\n\n\n\n\n13.30 Inloop met koffie en thee \n14.00 Welkom door Willy Spanjer – Programmamanager Duurzaam bouwen en renoveren \n14.05 Kantoren en hun gebruikers door Prof.dr.ir. A.C. den Heijer – TU Delft \n14.15 Nut en noodzaak van fieldlabs door directeur Marjan Kreijns en Ton Jonker – Directeur Economie\, Energie\, Digitalisering en Circulair bij Provincie Zuid-Holland \n14.30 Testen en onderzoeken in het Office Lab door Tim Jonathan – Manager operaties & realisaties \n14.40 Visie op het verduurzamen van (kantoor)gebouwen door Priva \n15.00 Office innovatie tour: rondleiding door proeftuin Office Lab en langs kantoorinnovaties \n16.00 Afronding: Hoe TKI Bouw en Techniek bijdraagt aan de verduurzaming van (kantoor)gebouwen door William van Niekerk TKI Bouw & Techniek \n16.15 Vega borrel \nMeer informatie
URL:https://bouwnieuwsvandaag.nl/event/opening-proeftuin-office-lab/
LOCATION:The Green Village\, Van den Broekweg 4\, Delft\, 2628 CN\, Netherlands
CATEGORIES:Seminar
END:VEVENT
BEGIN:VEVENT
DTSTART;TZID=Europe/Amsterdam:20250213T083000
DTEND;TZID=Europe/Amsterdam:20250213T120000
DTSTAMP:20260423T182835
CREATED:20251230T091438Z
LAST-MODIFIED:20251230T091438Z
UID:10000060-1739435400-1739448000@bouwnieuwsvandaag.nl
SUMMARY:Aandacht voor Ethiek
DESCRIPTION:De aandacht voor ethisch handelen in de vastgoedsector dreigt onder de druk van nieuwe wet- en regelgeving en verplichtingen rondom duurzaamheid en klimaatrisico’s te verslappen. Op initiatief van RICS en NEVAP en in samenwerking met IVBN en VVAW bepraken een groep professionals uit relevante beroepsgroepen onlangs op persoonlijke titel de ethische dilemma’s die ze nu zien. \n\n\nNaar aanleiding van dit rondetafelgesprek organiseert NEVAP\, in samenwerking met RICS\, VVAW\, IVBN\, onze leden\, belangenorganisaties en het onderwijs\, het Event ‘Aandacht voor Ethiek‘. \n\n\nDaarmee zetten wij gezamenlijk het onderwerp ethiek opnieuw op de agenda. Het huidig en toekomstig handelen wordt\, onder leiding van dagvoorzitter Tom van ’t Hek\, op 13 februari 2025 tijdens een ontbijtsessie in Rotterdam besproken. \n\n\nDoel van het evenement\n\n\n\n\nBewustwording creëren: bijdragen aan een hernieuwde focus op ethiek in de vastgoedsector en bij toekomstige (vastgoed)professionals.\n\n\n\n\nDiscussie op gang brengen: Een open dialoog tussen diverse sectoren stimuleren over ethische uitdagingen en oplossingen.\n\n\n\n\nPraktische aanbevelingen formuleren\n\n\n\n\nInspiratie bieden aan studenten: Jonge (vastgoed)professionals en studenten motiveren om ethiek als kernwaarde mee te nemen in hun carrière.
URL:https://bouwnieuwsvandaag.nl/event/aandacht-voor-ethiek/
CATEGORIES:Seminar
ORGANIZER;CN="NEVAP":MAILTO:info@nevap.nl
END:VEVENT
END:VCALENDAR