BEGIN:VCALENDAR
VERSION:2.0
PRODID:-//BouwNieuwsVandaag - ECPv6.15.20//NONSGML v1.0//EN
CALSCALE:GREGORIAN
METHOD:PUBLISH
X-ORIGINAL-URL:https://bouwnieuwsvandaag.nl
X-WR-CALDESC:Evenementen voor BouwNieuwsVandaag
REFRESH-INTERVAL;VALUE=DURATION:PT1H
X-Robots-Tag:noindex
X-PUBLISHED-TTL:PT1H
BEGIN:VTIMEZONE
TZID:Europe/Amsterdam
BEGIN:DAYLIGHT
TZOFFSETFROM:+0100
TZOFFSETTO:+0200
TZNAME:CEST
DTSTART:20240331T010000
END:DAYLIGHT
BEGIN:STANDARD
TZOFFSETFROM:+0200
TZOFFSETTO:+0100
TZNAME:CET
DTSTART:20241027T010000
END:STANDARD
BEGIN:DAYLIGHT
TZOFFSETFROM:+0100
TZOFFSETTO:+0200
TZNAME:CEST
DTSTART:20250330T010000
END:DAYLIGHT
BEGIN:STANDARD
TZOFFSETFROM:+0200
TZOFFSETTO:+0100
TZNAME:CET
DTSTART:20251026T010000
END:STANDARD
BEGIN:DAYLIGHT
TZOFFSETFROM:+0100
TZOFFSETTO:+0200
TZNAME:CEST
DTSTART:20260329T010000
END:DAYLIGHT
BEGIN:STANDARD
TZOFFSETFROM:+0200
TZOFFSETTO:+0100
TZNAME:CET
DTSTART:20261025T010000
END:STANDARD
END:VTIMEZONE
BEGIN:VEVENT
DTSTART;TZID=Europe/Amsterdam:20250605T090000
DTEND;TZID=Europe/Amsterdam:20250605T160000
DTSTAMP:20260422T105550
CREATED:20250307T020632Z
LAST-MODIFIED:20250531T024816Z
UID:10000090-1749114000-1749139200@bouwnieuwsvandaag.nl
SUMMARY:Thuis in AI – Wonen\, Werken & Leven
DESCRIPTION:De omgeving waarin we wonen\, werken en leven verandert de komende jaren drastisch door alle nieuwe toepassingen van kunstmatige intelligentie (AI). Dit event is er om jou als professional te inspireren\, informeren en van praktische kennis en tools te voorzien over hoe AI werkt\, wat anderen in verschillende sectoren al doen en hoe we door het gebruik van AI het wonen\, werken en leven in Nederland kunnen verbeteren. Bereid je voor op de toekomst en pas op voor nieuwe gevaren die op de loer liggen. \n\n\nCentrale vraag\n\n\nHoe kunnen we AI inzetten om het wonen\, werken en leven in Nederland te verbeteren? \n\n\nNa afloop van dit event:\n\n\n1. Weet je welke AI toepassingen je het best kunt gebruiken op het gebied van vastgoedexploitatie en -beheer\n2. Heb je een goed overzicht van alle AI-toepassingen die op je afkomen en wat je daarmee moet\n3. Wordt je eigen werk makkelijker en interessanter\n4. Kun je omgaan met de belangrijkste kansen en gevaren \n\n\nDeelnemers\n\n\nDe bijeenkomst staat open voor maximaal 200 deelnemers. De deelnemers werken in management- en beleidsfuncties bij vastgoedbeheerders\, beleggers\, woningcorporaties\, overheden en semioverheden\, marktpartijen\, maatschappelijke organisaties en kennisinstellingen. Het zijn de gebruikers van AI in hun werk\, vandaar dat hun interesse voor toepassingen groter is dan voor de technologie erachter. \n\n\nJouw dag\n\n\nScan op 5 juni je toegangskaart bij de AI-balie en ontvang een persoonlijk welkom van jouw AI-assistent. Start daarna de dag met een kop koffie of thee en ontmoet andere professionals. Een gelegenheid om in gesprek te gaan en nieuwe contacten te leggen. Luister daarna naar inspirerende bijdragen van sprekers die je meenemen naar hoe we morgen wonen\, werken en leven en hoe jij daar vanuit jouw vakgebied mee om kunt gaan. \n\n\nOntdek hoe anderen nu al voor hun bewoners een betere leefomgeving weten te creëren. En maak je keuze uit een van de drie zones: 1. wonen\, 2. werken of 3. leven. Ervaar wat je met de komst van AI kunt verbeteren zodat we er samen voor kunnen zorgen dat iedereen in Nederland een thuis heeft. Want willen we dat niet allemaal? Met AI maak je het mogelijk.
URL:https://bouwnieuwsvandaag.nl/event/thuis-in-ai-wonen-werken-leven/
CATEGORIES:Seminar
ORGANIZER;CN="NEVAP":MAILTO:info@nevap.nl
END:VEVENT
BEGIN:VEVENT
DTSTART;TZID=Europe/Amsterdam:20250618T153000
DTEND;TZID=Europe/Amsterdam:20250618T210000
DTSTAMP:20260422T105550
CREATED:20250322T020835Z
LAST-MODIFIED:20250614T024819Z
UID:10000097-1750260600-1750280400@bouwnieuwsvandaag.nl
SUMMARY:Inzicht als Bouwsteen: Digitale Oplossingen voor de Bouw van Morgen
DESCRIPTION:Ontdek hoe inzicht de bouwsector transformeert! Tijdens dit event nemen we u mee in de kracht van digitale innovaties die de bouw van morgen vormgeven. “Inzicht als Bouwsteen” draait om de technologieën die bouwprocessen versnellen\, ontwerpen foutloos maken en de hele keten beter laten samenwerken. \nDit event is voor iedereen die betrokken is bij de bouw — van ontwikkelaars tot aannemers en adviseurs. Leer hoe u met onze parametrische technologie moeiteloos gebouwen ontwerpt\, van buurten tot complete wijken\, en direct inzicht krijgt in de prestaties van uw plannen. Krijg antwoord op de uitdagingen van vandaag met oplossingen die gebaseerd zijn op betrouwbare data en advies uit de praktijk. \nWat kunt u verwachten? \n\nSnelheid en nauwkeurigheid in ontwerpen\, zonder complexe werkvoorbereiding.\nNaadloze samenwerking door digitale informatie-uitwisseling\, rechtstreeks vanuit de fabriek naar de bouwplaats.\nKennisdeling met experts uit de sector over de nieuwste mogelijkheden in bouwtechnologie.\n\nLaat u inspireren door nieuwe inzichten en bouw mee aan de toekomst. Mis deze kans niet om uw organisatie klaar te maken voor de volgende stap in digitalisering en innovatie. Schrijf u nu in en ontdek hoe inzicht dé bouwsteen wordt van uw succes.
URL:https://bouwnieuwsvandaag.nl/event/inzicht-als-bouwsteen-digitale-oplossingen-voor-de-bouw-van-morgen/
CATEGORIES:Seminar
ORGANIZER;CN="Stumico":MAILTO:secretariaat@stumico.nl
END:VEVENT
END:VCALENDAR