BEGIN:VCALENDAR
VERSION:2.0
PRODID:-//BouwNieuwsVandaag - ECPv6.15.20//NONSGML v1.0//EN
CALSCALE:GREGORIAN
METHOD:PUBLISH
X-WR-CALNAME:BouwNieuwsVandaag
X-ORIGINAL-URL:https://bouwnieuwsvandaag.nl
X-WR-CALDESC:Evenementen voor BouwNieuwsVandaag
REFRESH-INTERVAL;VALUE=DURATION:PT1H
X-Robots-Tag:noindex
X-PUBLISHED-TTL:PT1H
BEGIN:VTIMEZONE
TZID:Europe/Amsterdam
BEGIN:DAYLIGHT
TZOFFSETFROM:+0100
TZOFFSETTO:+0200
TZNAME:CEST
DTSTART:20250330T010000
END:DAYLIGHT
BEGIN:STANDARD
TZOFFSETFROM:+0200
TZOFFSETTO:+0100
TZNAME:CET
DTSTART:20251026T010000
END:STANDARD
BEGIN:DAYLIGHT
TZOFFSETFROM:+0100
TZOFFSETTO:+0200
TZNAME:CEST
DTSTART:20260329T010000
END:DAYLIGHT
BEGIN:STANDARD
TZOFFSETFROM:+0200
TZOFFSETTO:+0100
TZNAME:CET
DTSTART:20261025T010000
END:STANDARD
BEGIN:DAYLIGHT
TZOFFSETFROM:+0100
TZOFFSETTO:+0200
TZNAME:CEST
DTSTART:20270328T010000
END:DAYLIGHT
BEGIN:STANDARD
TZOFFSETFROM:+0200
TZOFFSETTO:+0100
TZNAME:CET
DTSTART:20271031T010000
END:STANDARD
END:VTIMEZONE
BEGIN:VEVENT
DTSTART;TZID=Europe/Amsterdam:20260122T143000
DTEND;TZID=Europe/Amsterdam:20260122T180000
DTSTAMP:20260419T235918
CREATED:20260103T154857Z
LAST-MODIFIED:20260103T154857Z
UID:10000247-1769092200-1769104800@bouwnieuwsvandaag.nl
SUMMARY:✅ Staalcafé
DESCRIPTION:Donderdagmiddag 22 januari a.s. brengt Bouwen met Staal – samen met haar vertrouwde en nieuwe leden en relaties – een feestelijke toast uit op een staalvriendelijk 2026. \nDe wederzijdse gelukwensen aan de bar worden voorafgegaan door een informatieve sessie in de Vincent van Goghzaal waarin Bouwen met Staal vooruitblikt op de activiteiten in het nieuwe jaar. \nZoals de Staalbouwdag. U krijgt een voorproefje van de thematiek en opzet van het inhoudelijk programma van de Staalbouwdag 2026 op donderdag 8 oktober a.s. in het AFAS Theater\, vervat in het plenair congres met lezingen en de uitreiking van de Nationale Staalprijs 2026 en korte thematische breakoutsessies. \nEn natuurlijk geen Staalbouwdag zonder de vakbeurs\, het podium voor de producten en diensten voor het ontwerpen en bouwen met staal. Tijdens het Staalcafé hoort u wat de opties zijn om met uw bedrijf of organisatie aan het event deel te nemen en zó in het middelpunt van de belangstelling te komen van de beslissers in de staalbouw. \nEen nieuwjaarsbijeenkomst is bovendien hét momentum voor een update over de aandelen van (constructie)staal in de verschillende segmenten van de Nederlandse bouwmarkt\, de actuele trends\, verwachte ontwikkelingen en de kansen om marktposities te verstevigen.
URL:https://bouwnieuwsvandaag.nl/event/%e2%9c%85-staalcafe/
LOCATION:AFAS Theater Leusden\, Inspiratielaan 1\, Leusden\, 3833 AV\, Netherlands
CATEGORIES:Seminar
ORGANIZER;CN="Bouwen met Staal":MAILTO:info@bouwenmetstaal.nl
END:VEVENT
BEGIN:VEVENT
DTSTART;TZID=Europe/Amsterdam:20260123T133000
DTEND;TZID=Europe/Amsterdam:20260123T180000
DTSTAMP:20260419T235918
CREATED:20260103T152700Z
LAST-MODIFIED:20260103T152700Z
UID:10000243-1769175000-1769191200@bouwnieuwsvandaag.nl
SUMMARY:Gebouwautomatisering is de oplossing voor netcongestie
DESCRIPTION:Eind 2024 nam de TU Eindhoven een 3.4 MWh batterij in gebruik. Dit project was gericht op het slim aanpakken van netcongestie\, het verbeteren van de connectiviteit en het creëren van een duurzame proeftuin voor innovaties. Nu\, één jaar later gaat Building G100 kijken wat de bevindingen zijn. Wat heeft het opgeleverd? Wat heeft het gekost? Wat ging er goed en wat niet? En het belangrijkste; wat heeft de TU/e hiervan geleerd? Dat laten we je graag live zien op deze bijeenkomst van Building G100 met een unieke rondleiding.
URL:https://bouwnieuwsvandaag.nl/event/gebouwautomatisering-is-de-oplossing-voor-netcongestie/
LOCATION:TU Eindhoven\, Het Eeuwsel 53\, Eindhoven\, 5612 AZ\, Netherlands
CATEGORIES:Seminar
ORGANIZER;CN="Building G100":MAILTO:info@buildingg100.nl
END:VEVENT
BEGIN:VEVENT
DTSTART;TZID=Europe/Amsterdam:20260127T133000
DTEND;TZID=Europe/Amsterdam:20260127T163000
DTSTAMP:20260419T235918
CREATED:20260104T075339Z
LAST-MODIFIED:20260104T075339Z
UID:10000255-1769520600-1769531400@bouwnieuwsvandaag.nl
SUMMARY:Verstedelijking rond middelgrote stations: van plan naar realisatie
DESCRIPTION:Rond middelgrote stations zijn niet alleen 100.000 woningen snel en duurzaam in te passen\, maar ook vele voorzieningen en arbeidsplaatsen. Er zijn dan ook al flink wat gemeenten en regio’s met verstedelijkingsplannen rond middelgrote stations.  \nMaar hoe kom je van plan tot realisatie? Samen met gebiedsontwikkelaars\, en de ‘spoorse’ partijen? Hoe bundel je krachten met andere stationsgemeenten in de regio? In hoeverre zijn infrastructurele ingrepen randvoorwaarde voor succes? Hoe krijg je daarvoor de benodigde financiering rond? \nEn last but not least: hoe houd je grip op een gewenst stedenbouwkundig programma\, in lijn met maatschappelijke opgaven? Uiteraard rekening houdend met lokale kenmerken en marktomstandigheden. \nDeze en andere vragen staat centraal tijdens het seminar ‘Verstedelijking rond middelgrote stations: van plan naar realisatie’ dat KuiperCompagnons\, vakblad ROm/Stadszaken.nl en gemeente Dijk en Waard op dinsdagmiddag 27 januari organiseren in het stationsgebied van Heerhugowaard. Daar verrijst momenteel het ‘Stationskwartier Dijk en Waard’\, middenin het hart van de nieuwe fusiegemeente. \nLeer aan de hand van praktijkcasuïstiek: \n\nHoe kom je van een ambitie tot een concreet plan; hoe werk je daarin samen?\nHoe kom je van een concreet plan tot een businesscase?\nWelke instrumenten zet je in om met marktpartijen tot een een gewenst maatschappelijk programma te komen dat jouw stationsomgeving verdient?\nHoe vermijd je blinde ambitie\, maar stuur je op realistische doelen?\nWanneer en hoe kun je gemotiveerd afwijken van beleid\, bijvoorbeeld bij parkeren?\nHoe haak je slim aan bij regionale en landelijke agenda’s?
URL:https://bouwnieuwsvandaag.nl/event/verstedelijking-rond-middelgrote-stations-van-plan-naar-realisatie/
LOCATION:Hotel Heer Hugo\, Gildestraat 2\, Heerhugowaard
CATEGORIES:Seminar
END:VEVENT
BEGIN:VEVENT
DTSTART;TZID=Europe/Amsterdam:20260129T140000
DTEND;TZID=Europe/Amsterdam:20260129T173000
DTSTAMP:20260419T235918
CREATED:20260103T155034Z
LAST-MODIFIED:20260103T155034Z
UID:10000248-1769695200-1769707800@bouwnieuwsvandaag.nl
SUMMARY:NETwerksessie van het Platform Staalframebouw (PSFB)
DESCRIPTION:‘Uitnutten’ luidt het thema van de eerste NETwerksessie van het Platform Staalframebouw (PSFB) in het nieuwe jaar. Met informatieve presentaties rond de mogelijkheden van staalframebouw in het kader van stedelijke herstructurering én alle gelegenheid om bekenden te spreken en (vooral ook) nieuwe contacten te leggen. \nHet Platform Staalframebouw (PSFB) staat voor het uitwisselen van kennis en ervaringen in en voor het toepassen van staalframebouw met iedereen die hierbij beroepsmatig betrokken is (óf in elk geval bijzonder geïnteresseerd). Van architecten\, constructeurs en bouwers tot docenten\, studenten en vertegenwoordigers van overheden. \nDaartoe gaat het platform vanaf 2026 geregeld een NETwerksessie PFSB organiseren. De eerste editie van de sessie staat op de rol voor donderdag 29 januari 2026\, van 14:00–17:30 uur\, bij de TU Eindhoven. \nDe NETwerksessie PFSB is familie van de Kennis- en NETwerksessie Staalframebouw die het PSFB inmiddels al enkele jaren organiseert op de jaarlijkse Staalbouwdag. Tijdens de Staalbouwdag 2025 was deze sessie gewijd aan optoppen. De NETwerksessie van donderdag 29 januari haakt eveneens in op optoppen\, maar dan in een breder verband\, als onderdeel van binnenstedelijke herstructurering. Naast optoppen komen ook andere instrumenten voor herstructurering over het voetlicht\, zoals uitbuiken\, aanbouwen\, gevelrenovatie en complete transformaties van bestaande gebouwen. Onder het thema: Uitnutten. \nHet programma van de NETwerksessie PSFB belooft presentaties namens onder meer het Ministerie van VRO en de TU Eindhoven. Afsluitend is er gelegenheid om te toasten op een ‘staalframebouw-vriendelijk’ 2026 tijdens de Nieuwjaarsborrel in het LAB van de technische universiteit.
URL:https://bouwnieuwsvandaag.nl/event/netwerksessie-van-het-platform-staalframebouw-psfb/
LOCATION:TU Eindhoven\, Het Eeuwsel 53\, Eindhoven\, 5612 AZ\, Netherlands
CATEGORIES:Seminar
ORGANIZER;CN="Bouwen met Staal":MAILTO:info@bouwenmetstaal.nl
END:VEVENT
BEGIN:VEVENT
DTSTART;TZID=Europe/Amsterdam:20260205T120000
DTEND;TZID=Europe/Amsterdam:20260205T180000
DTSTAMP:20260419T235918
CREATED:20260102T145531Z
LAST-MODIFIED:20260102T145531Z
UID:10000187-1770292800-1770314400@bouwnieuwsvandaag.nl
SUMMARY:DURF: Dual Use Region Flevoland Utrecht
DESCRIPTION:De Europese defensiemarkt is volop in beweging. De komende jaren wordt fors geïnvesteerd in nationale veiligheid\, weerbaarheid en technologische voorsprong. Dat creëert concrete kansen voor ondernemers in Midden-Nederland én Defensie die kan profiteren van jouw kennis en technologie. Wat zijn deze kansen en waar begin je als ondernemer? \nTijdens DURF brengen we ondernemers\, kennispartners en Defensie samen om precies op deze vragen antwoord te geven. We verkennen de mogelijkheden op het gebied van toelevering\, innovatie\, internationale samenwerking en duurzame veiligheid. \nWat kun je verwachten? \n\nInspirerende sprekers vanuit Defensie en het bedrijfsleven.\nDe officiële lancering van het regioteam: jouw loket naar Defensie.\nVerdiepende sessies over zakendoen in de Defensiemarkt\, internationalisering\, cyberweerbaarheid\, financiering en de meerwaarde van reservisten.\nSessies over zakendoen met Defensie: Van behoeftestellers binnen Defensie tot startups en partijen die je kunnen helpen bij jouw compliance en testfaciliteiten\n\nPraktische informatie\nDatum en tijdstip: Donderdag 5 februari 2026 | 12:00 – 18:15 uur\nLocatie: Aviodrome\, Pelikaanweg 50 in Lelystad
URL:https://bouwnieuwsvandaag.nl/event/durf-dual-use-region-flevoland-utrecht/
LOCATION:Aviodrome\, Pelikaanweg 50\, Lelystad\, Netherlands
CATEGORIES:Seminar
ORGANIZER;CN="Koninklijke Metaalunie":MAILTO:info@metaalunie.nl
END:VEVENT
BEGIN:VEVENT
DTSTART;TZID=Europe/Amsterdam:20260205T143000
DTEND;TZID=Europe/Amsterdam:20260205T173000
DTSTAMP:20260419T235918
CREATED:20260116T134421Z
LAST-MODIFIED:20260116T134421Z
UID:10000261-1770301800-1770312600@bouwnieuwsvandaag.nl
SUMMARY:Lancering Platform Vergunningenmanagement Nederland (PVM)
DESCRIPTION:Het Platform Vergunningenmanagement Nederland (PVM) is een nieuw landelijk netwerk- en kennisplatform voor professionals die werken met vergunningen in de fysieke leefomgeving. Onlangs hebben we het netwerk- en kennisplatform voor vergunningenmanagers formeel opgericht. Een heugelijk feit dat we graag met jou willen vieren.\nDaarom nodigen we je hierbij van harte uit om op 5 februari 2026 met ons het glas te heffen op deze feestelijke gebeurtenis. \nProgramma\n14.30 uur: Inloop\n15.00 uur: Welkomstwoord\, voorzitter Marieke Keijer\n15.05 uur: Interactieve paneldiscussie\, met als gasten: \nMartijn Verwoerd\, Bouwend Nederland\nPatricia Palmen\, VNG\nPatrick Kemperman\, BAM Infra Nederland \n15.50 uur: Keynote spreker Saskia Kluit\, Senator Eerste Kamer\n16.20 uur: Toostmoment formele lancering PVM\, gevolgd door borrel\n17.30 uur: Einde programma \nVoor wie\nPVM is er voor vergunningenmanagers\, omgevingsmanagers\, projectleiders\, werkvoorbereiders en andere professionals die betrokken zijn bij vergunningprocessen in de fysieke leefomgeving\, zowel bij overheden als bij aannemers\, ingenieurs- en adviesbureaus.
URL:https://bouwnieuwsvandaag.nl/event/lancering-platform-vergunningenmanagement-nederland-pvm/
LOCATION:Congrescentrum B&I / Bouw en Infra park\, Ceintuurbaan 2\, Harderwijk\, 3847 LG
CATEGORIES:Seminar
ORGANIZER;CN="Stichting Platform Vergunningenmanagement Nederland":MAILTO:info@vergunningenmanagement.nl
END:VEVENT
BEGIN:VEVENT
DTSTART;TZID=Europe/Amsterdam:20260205T150000
DTEND;TZID=Europe/Amsterdam:20260205T170000
DTSTAMP:20260419T235918
CREATED:20260103T084013Z
LAST-MODIFIED:20260103T085159Z
UID:10000221-1770303600-1770310800@bouwnieuwsvandaag.nl
SUMMARY:✅ STEM van de Master met Albert Jan Swart – Een blik op de Nederlandse maakindustrie: voorzichtig herstel of nieuwe uitdagingen?
DESCRIPTION:De Nederlandse maakindustrie beleeft een periode met tegenstrijdige signalen: \n\nEen voorzicht economisch herstel maar een broos vertrouwen van ondernemers.\nHigh-tech\, food en farma groeien stevig maar andere sectoren blijven achter.\nOrder portefeuilles groeien\, export neemt toe maar concurrentiekracht daalt.\n\nTijdens deze STEM van de Master blikt Albert Jan Swart (sector econoom industrie ABN-AMRO en duider van de NEVI inkoopmanagersindex) nog even terug naar het afgelopen jaar maar vooral vooruit naar 2026. En zeker ook naar ontwikkelingen die de komende jaren van belang zijn voor Nederlandse maakbedrijven. \nWat kun je verwachten?\nAlbert Jan geeft inzicht in:\n✅ Recente ontwikkelingen en de betekenis ervan voor jouw bedrijf. \n✅ Trends\, ontwikkelingen en signalen die van belang zijn om in de gaten te houden voor nu en de toekomst. \n✅ Verschillen in sectoren\, de oorzaken en de betekenis ervan voor maakbedrijven. \nVoor wie relevant?\nMasterclasses van STEM-imc zijn relevant voor directies/managers van technische en industriële bedrijven. Zowel voor algemeen als marketing\, sales\, innovatie\, communicatie\, operations/productie\, finance\, R&D/innovatie managers en iedereen die inzichten wil vertalen naar acties. \n🔹 Datum: donderdag 5 februari 2026.\n🔹 Tijd: Vanaf 15.00 uur\n🔹 Locatie: Midden Nederland (adresgegevens volgen na aanmelding) \nDeelname\nDeelname aan STEM van de Masterbijeenkomsten is inbegrepen in het STEM eXplain/eXpand programma. \n\nMaar lezers van IndustrieVandaag kunnen deze keerkosteloos kennis met de masterclasses van STEM-im. Gebruik dan bij aanmelding de code: IV2625.
URL:https://bouwnieuwsvandaag.nl/event/stem-van-de-master-met-albert-jan-swart-een-blik-op-de-nederlandse-maakindustrie-voorzichtig-herstel-of-nieuwe-uitdagingen/
LOCATION:Midden Nederland (adres gegevens volgen na aanmelding)
CATEGORIES:Seminar
ORGANIZER;CN="STEM Industrial Marketing Community":MAILTO:contact@stem-imc.com
END:VEVENT
BEGIN:VEVENT
DTSTART;TZID=Europe/Amsterdam:20260211T143000
DTEND;TZID=Europe/Amsterdam:20260211T180000
DTSTAMP:20260419T235918
CREATED:20260103T155337Z
LAST-MODIFIED:20260103T155337Z
UID:10000249-1770820200-1770832800@bouwnieuwsvandaag.nl
SUMMARY:Uitreiking Benelux Steel Bridge Contest
DESCRIPTION:Op 11 februari 2026 vindt de feestelijke uitreiking van de Benelux Steel Bridge Contest plaats\, georganiseerd door Bouwen met Staal en Infosteel in samenwerking met Rijkswaterstaat. Deze inspirerende middag staat in het teken van innovatie\, samenwerking en toekomstgerichte relaties in de bruggenbouw. \nProgramma\n\n\n\nTijd\nOnderwerp\nWie\n\n\n14:30\nOntvangst\n\n\n\n15:00\nIntroductie door Rijkswaterstaat: De V&R-opgave\nBenny Nieswaag\n\n\n15:20\nKeynote: Van contractuele transactie naar een toekomstgerichte relatie: klant en marktpartijen als bondgenoten\nDaphne Deckers (Victor Buyck) & Joost Merema (Pro6 Managers)\n\n\n15:45\nPlenaire discussie: Wat hebben marktpartijen nodig om de V&R te laten slagen?\n\n\n\n16:30\nUitreiking Awards\ndoor juryvoorzitter Gerhard Nijenhuis (ontwerper\, oprichter ipv Delft) en Bruno Dursin (Infosteel)\n\n\n17:00\nReceptie met hapje en drankje\n\n\n\n18:00\nEinde
URL:https://bouwnieuwsvandaag.nl/event/uitreiking-benelux-steel-bridge-contest/
LOCATION:LEF Future Center Rijkswaterstaat\, Westraven Griffioenlaan 2\, Utrecht
CATEGORIES:Seminar
ORGANIZER;CN="Bouwen met Staal":MAILTO:info@bouwenmetstaal.nl
END:VEVENT
BEGIN:VEVENT
DTSTART;TZID=Europe/Amsterdam:20260226T133000
DTEND;TZID=Europe/Amsterdam:20260226T173000
DTSTAMP:20260419T235918
CREATED:20260103T082103Z
LAST-MODIFIED:20260103T082103Z
UID:10000215-1772112600-1772127000@bouwnieuwsvandaag.nl
SUMMARY:Jaarbijeenkomst Smart Infratechniek
DESCRIPTION:Op 26 februari verwelkomen we ondernemers uit de infratechniek voor de jaarlijkse bijeenkomst Smart Infratechniek van Techniek Nederland. Een inspirerende middag waarin we samen vooruitkijken naar de slimme en duurzame infrastructuur van de toekomst. We hebben een sterk inhoudelijk programma.\n\n\nProgramma\n13:15 – 13:30 | Inloop met koffie en thee \n13.30 – 16.30 Inhoudelijk programma \n\nOpening en welkomstwoord door Berry Krouwel\, voorzitter vakcommissie Smart Infratechniek\nOntwikkelingen rondom de instandhoudingsopgave van Nederland – de nieuwste inzichten en projecten rondom vervanging en renovatie. Door Mark Harbers\, voorzitter Techniek Nederland\nUpdate vanuit de Taskforce Elektro – voortgang van onze gezamenlijke aanpak rondom netcongestie.\nPresentatie van de branchecijfers Infra – Het Management Centrum heeft voor het eerst de cijfers van infratechniek en industrie gedetailleerd in kaart gebracht. En jij bent de eerste die ze gaat zien.\nAfsluiting door Berry Krouwel\n\n16:30 – 17:30 | Netwerkborrel
URL:https://bouwnieuwsvandaag.nl/event/jaarbijeenkomst-smart-infratechniek/
LOCATION:De Groene Afslag\, Cissy van Marxveldtstraat 1\, Bussum
CATEGORIES:Seminar
END:VEVENT
BEGIN:VEVENT
DTSTART;TZID=Europe/Amsterdam:20260305T123000
DTEND;TZID=Europe/Amsterdam:20260305T170000
DTSTAMP:20260419T235918
CREATED:20260103T130741Z
LAST-MODIFIED:20260103T130741Z
UID:10000239-1772713800-1772730000@bouwnieuwsvandaag.nl
SUMMARY:De volgende stap in CO₂-reductie in de betonindustrie en korreloptimalisatie
DESCRIPTION:Deze middag staat in het teken van de noviteiten op het gebied van duurzaam beton\, met speciale aandacht voor de resultaten van de Betonhuis CO₂-Roadmap en de praktische toepassing van korrelpakking. \nProgramma:\nLaatste stand van zaken \n\nDuurzaamheid en de laatste stand van zaken en resultaten Betonhuis CO₂-Roadmap\nLaatste innovaties vanuit de sector en wat ze betekenen voor de opdrachtgever\, producent\, leverancier en aannemer?\n\nTheorie korrelpakking \n\nAchtergrond en principes van korrelpakking\nRol van korrelpakking in CO₂-reductie en praktische tools\nVervolgtraject korrelpakking\n\nNieuwe tool die tot 5% cementreductie kan opleveren \n\nInstructies voor invullen en interpreteren van de resultaten\nWhitepaper korrelpakking\n\nSprekers zijn onder anderen Alfons van Woensel\, Sonja Fennis\, Remco Kerkhoven en Math Pluis. We sluiten af met een paneldiscussie waarin noviteiten uit de betonindustrie centraal staan.
URL:https://bouwnieuwsvandaag.nl/event/de-volgende-stap-in-co%e2%82%82-reductie-in-de-betonindustrie-en-korreloptimalisatie/
LOCATION:Kas meeting-eventlocatie\, De Bleek 13\, Woerden
CATEGORIES:Seminar
END:VEVENT
BEGIN:VEVENT
DTSTART;TZID=Europe/Amsterdam:20260327T090000
DTEND;TZID=Europe/Amsterdam:20260327T130000
DTSTAMP:20260419T235918
CREATED:20260102T150251Z
LAST-MODIFIED:20260102T150251Z
UID:10000190-1774602000-1774616400@bouwnieuwsvandaag.nl
SUMMARY:Vastgoed: Belangen en Bottlenecks
DESCRIPTION:Vastgoedontwikkeling staat onder druk: de opgaven zijn groot\, de belangen divers en de knelpunten complex. Hoe zorgen we ervoor dat projecten sneller\, slimmer en doelgerichter worden gerealiseerd\, terwijl de verschillende belangen in balans blijven? Deze bijeenkomst biedt een unieke kans om inzichten te delen\, bottlenecks te benoemen en samen concrete acties te formuleren. \n\n\nWat kun je verwachten?\n\n\nTijdens deze rondetafel bespreken we met elkaar de belangrijkste uitdagingen en kansen in de vastgoedketen. We verkennen waar belangen elkaar raken\, waar knelpunten zitten en hoe gezamenlijke afspraken bijdragen aan het versnellen van de opgave. Door een gestructureerde\, interactieve werkvorm krijgen deelnemers zicht op elkaars perspectieven en creëren we een gezamenlijke basis voor vervolgacties. \n\n\nHet doel van deze bijeenkomst is om inzichten te delen\, empathie te ontwikkelen en samen tot concrete acties te komen. Zo ontstaat een gedeeld beeld van wat nodig is om de vastgoedopgave succesvol en toekomstbestendig te realiseren. \n\n\nVoor wie?\n\n\nEen select gezelschap van bestuurders en directieleden uit bouw\, ontwikkeling en vastgoed\, die betrokken zijn bij samenwerking in de keten en strategische besluitvorming.
URL:https://bouwnieuwsvandaag.nl/event/vastgoed-belangen-en-bottlenecks/
CATEGORIES:Seminar
END:VEVENT
BEGIN:VEVENT
DTSTART;TZID=Europe/Amsterdam:20260331T153000
DTEND;TZID=Europe/Amsterdam:20260331T210000
DTSTAMP:20260419T235918
CREATED:20260103T125941Z
LAST-MODIFIED:20260103T125941Z
UID:10000238-1774971000-1774990800@bouwnieuwsvandaag.nl
SUMMARY:De ideale bouwprofessional
DESCRIPTION:Stel je voor\, je loopt naar een locatie binnen die van schoonheid je adem beneemd! Het is niet zomaar een gebouwtje… het is een van de toplocaties van Nederland: Kasteel Tongelaar. De locatie waar wij als Stumico eenmalig mogen neerstrijken. In het midden van de natuur en historie staat een tafel met microfoons… ja\, dit voelt goed. Hier gaat wat besproken worden in het belang van ons allemaal! Want de bouw heeft uitdagingen… mensen in de bouw hebben uitdagingen. Stumico is hét platform om richting te geven en even #NotByAI de toekomst te bespreken. Misschien goede input voor AI? \nWant wat is de ideale bouwprofessional van nu? Ben jij dat? Ken je iemand die dat echt is? En waarom is hij of zij dat dan? Wat kan of doet deze persoon? We gaan in op de competenties die wenselijk zijn voor een bouw die innovatiebelust is en groter en beter resultaat boekt. Een nieuwe bouwmentaliteit. Gaan wij dat meemaken? \nWe gaan een heuze PODCAST opnemen met jullie als publiek. Interactief\, technologisch en met focus op de experience! De locatie gaat natuurlijk de verwachtingen overstijgen\, Tongelaar verwelkomt u! Schrijf je snel in voor dit exclusieve Stumico-event. Het maximaal aantal deelnemers is beperkt. Vol is vol!
URL:https://bouwnieuwsvandaag.nl/event/de-ideale-bouwprofessional/
LOCATION:Kasteel Tongelaar\, Tongelaar 12–16\, Mill
CATEGORIES:Seminar
ORGANIZER;CN="Stumico":MAILTO:secretariaat@stumico.nl
END:VEVENT
BEGIN:VEVENT
DTSTART;TZID=Europe/Amsterdam:20260408T100000
DTEND;TZID=Europe/Amsterdam:20260408T150000
DTSTAMP:20260419T235918
CREATED:20260103T074107Z
LAST-MODIFIED:20260103T074107Z
UID:10000208-1775642400-1775660400@bouwnieuwsvandaag.nl
SUMMARY:Scale It - Opschalen voor impact
DESCRIPTION:Tijdens Scale It! laten we zien wat we aan het doen zijn: \n\nInnovaties opschalen — hoe we de sprong maken van pilot naar brede toepassing\nProductiviteit verhogen — hoe we meer met minder bereiken\nOrganisaties laten groeien — welke stappen en programma’s de groeiers doorlopen\n\nReken op inspirerende keynotes en volop interactie om kennis en ervaringen uit te wisselen met koplopers uit de sector. Maak bovendien kennis met partners uit andere innovatieprogramma’s die TKI Bouw en Techniek coördineert.
URL:https://bouwnieuwsvandaag.nl/event/scale-it-opschalen-voor-impact/
LOCATION:Tivoli Vredenburg\, Vredenburgkade 11\, Utrecht\, 3511 WC\, Netherlands
CATEGORIES:Seminar
ORGANIZER;CN="TKI Bouw en Techniek":MAILTO:office@tkibt.nl
END:VEVENT
BEGIN:VEVENT
DTSTART;TZID=Europe/Amsterdam:20260507T120000
DTEND;TZID=Europe/Amsterdam:20260507T180000
DTSTAMP:20260419T235918
CREATED:20260330T071908Z
LAST-MODIFIED:20260330T072149Z
UID:10000264-1778155200-1778176800@bouwnieuwsvandaag.nl
SUMMARY:✅ Solibri Connect Benelux Dag (tip)
DESCRIPTION:Bij Solibri Connect Benelux Dag draait alles om jou als gebruiker. Jij staat centraal. Het is dé kans om samen te komen met 150 professionals uit de AEC-industrie voor een dag vol inspiratie\, leren en connecten. Het is de middag waar Solibrians samenkomen om te verdiepen\, te leren en ervaringen te delen. \nProgramma; \n\n12:00 – 13:00 Lunch\n13:00 – 13:30 Opening | René Worms & Vic Bensdorp\n13:30 – 14:15 Productverdieping | Bart Bol & Ward Turkyeh\n14:15 – 15:00 Panelgesprek deel 1: Grip op workflows\, kwaliteit en samenwerking\n\nPauze \n\n15:30 – 16:00 Panelgesprek deel 2: Van vandaag naar morgen\n16:00 – 16:45 Solibri Roadmap | Toni Gyllenberg & Hans de Kruijff\n16:45 – 17:00 Wrap-up | Vic Bensdorp\n17:00 Borrel & Netwerken\n\n\n\nDe Roadmap blijft een vast onderdeel. Maar dit jaar pakken we het net anders aan. Meer interactie. Meer gesprek. Meer ruimte voor jullie vragen en ervaringen. We introduceren een nieuw element waarin verschillende stemmen uit het veld samenkomen. Breed\, praktijkgericht en met directe betrokkenheid van het publiek. \nSpreek met vakgenoten\, Connect en netwerk deze middag. We starten de dag samen met een heerlijke lunch en sluiten af met een borrel om te netwerken met collega’s en andere professionals. \nDe inschrijving is geopend. Deelname is kosteloos. Kom samen met een collega of je team. We kijken ernaar uit je te ontmoeten op de Solibri Connect Dag 2026!
URL:https://bouwnieuwsvandaag.nl/event/solibri-connect-benelux-dag/
LOCATION:Landgoed de Horst\, De Horst 1\, Driebergen-Rijsenburg\, 3971 KR\, Netherlands
CATEGORIES:Seminar
ORGANIZER;CN="Solibri Benelux":MAILTO:info@solibri.nl
END:VEVENT
BEGIN:VEVENT
DTSTART;TZID=Europe/Amsterdam:20261008T090000
DTEND;TZID=Europe/Amsterdam:20261008T173000
DTSTAMP:20260419T235918
CREATED:20260102T150543Z
LAST-MODIFIED:20260102T150543Z
UID:10000192-1791450000-1791480600@bouwnieuwsvandaag.nl
SUMMARY:Next2050: Ruimte voor Morgen
DESCRIPTION:Nederland staat midden in een ruimtelijke crisis. De manier waarop we wonen\, werken en leven verandert razendsnel\, maar onze steden\, wijken en buurten houden die verandering niet bij. Tijdens Next2050 buigen we ons over het maken van ruimte voor wonen\, werken en leven in de toekomst? In drie co-creatielabs werk je aan concrete oplossingen voor de fysieke\, economische en sociale ruimte. \n\n\nDe woningnood groeit\, betaalbaar wonen raakt steeds moeilijker bereikbaar\, en onze infrastructuur kraakt onder de druk van nieuwe mobiliteits- en energievraagstukken. Wie blijft bouwen op oude routines\, loopt vast in nieuwe realiteiten. Tijd voor een andere blik op ruimte. Hoe maken we ruimte voor morgen? Denk mee tijdens Next2050. \n\n\nKans op verandering: Ruimte voor morgen\nDe uitdagingen zijn groot\, maar juist in deze periode liggen ook kansen. Want nu meerdere transities tegelijk plaatsvinden — op het gebied van wonen\, energie\, mobiliteit en wetgeving — ontstaan er ook nieuwe mogelijkheden om het anders te doen. De druk op bestaande systemen dwingt tot vernieuwing\, en daarmee ontstaat ruimte voor slimme keuzes en samenwerking. \n\n\nAls we nú handelen\, kunnen we bouwen aan leefbare steden\, verbonden buurten en een samenleving die klaar is voor de toekomst. De opgaven van vandaag vragen om frisse perspectieven op de fysieke\, economische\, sociale en digitale ruimte. En die krijg jij op dit event. \n\n\nCentrale vraag event\nOm deze spanning te beheersen en een toekomstbestendige indeling van de ruimte te realiseren\, moeten we op weg naar 2050 samen een concrete aanpak hebben voor De fysieke\, economische\, sociale en digitale ruimte.\nHoe kunnen we\, gezien de toenemende druk op de ruimte en de snel veranderende behoeften van onze samenleving\, tot een toekomstbestendige inrichting van Nederland komen die wonen\, werken\, en leven in balans brengt? \n\n\nWaarom dit event\nNext2050 is niet zomaar een evenement; het is een oproep tot actie. Een platform waar woningcorporaties\, gemeenten\, vastgoedeigenaren\, beheerders en ondernemers samenkomen om deze complexe uitdagingen te bespreken\, op te lossen en te co-creëren.​ \n\n\nDoor deel te nemen\, draag je bij aan het vormgeven van een toekomst waarin flexibiliteit en zekerheid hand in hand gaan en zo de ruimte voor morgen creëren. \n\n\nSubsessies – Co- creatie labs\nWe bieden op dit event drie grote co-creatielabs aan om met elkaar de invulling te gaan uitwerken op het grote vraagstuk: De ruimte voor morgen. Dit zijn: \n\n\n1.     De fysieke ruimte\nHet wonen\, bouwen\, gebiedsontwikkeling\, BIM & AI\, slimme sensoren\, materialen en circulair. \n\n\n2.     De economische ruimte\nWerken in het metaverse\, flexwerken dichtbij huis\, VR & AR\, Deeleconomie\, blockchain\, financiering \n\n\n3.     De sociale ruimte\nCommunity building\, ethiek\, e-health\, domotica\, veiligheid\, toegankelijkheid en zekerheid\, samenwerken. \n\n\nBij iedere co-creatie labs zijn er visual storytelling zones aanwezig waarbij kunstenaars/tekenaars de oplossingen en ideeen digitaal vastleggen zodat ze op het grote digitale canvas verschijnen. \n\n\nResultaat\nTijdens het event co- creëren we een grootschalig\, (digitaal)canvas op een prominente locatie binnen het event. Dit canvas fungeert als een dynamisch (kunst)werk waarop deelnemers gedurende het event hun ideeën\, inzichten en visies kunnen toevoegen. \n\n\nVoor wie?\n\n\nHet event staat open voor maximaal 150 deelnemers. De deelnemers werken in management- en beleidsfuncties bij woningcorporaties\, overheden en semioverheden\, marktpartijen\, maatschappelijke organisaties en kennisinstellingen. Het zijn degenen die enerzijds nadenken over de inrichting van ons land en anderzijds degenen die in de positie zijn om zaken concreet aan te pakken.
URL:https://bouwnieuwsvandaag.nl/event/next2050-ruimte-voor-morgen/
CATEGORIES:Seminar
END:VEVENT
END:VCALENDAR