BEGIN:VCALENDAR
VERSION:2.0
PRODID:-//BouwNieuwsVandaag - ECPv6.15.20//NONSGML v1.0//EN
CALSCALE:GREGORIAN
METHOD:PUBLISH
X-WR-CALNAME:BouwNieuwsVandaag
X-ORIGINAL-URL:https://bouwnieuwsvandaag.nl
X-WR-CALDESC:Evenementen voor BouwNieuwsVandaag
REFRESH-INTERVAL;VALUE=DURATION:PT1H
X-Robots-Tag:noindex
X-PUBLISHED-TTL:PT1H
BEGIN:VTIMEZONE
TZID:Europe/Amsterdam
BEGIN:DAYLIGHT
TZOFFSETFROM:+0100
TZOFFSETTO:+0200
TZNAME:CEST
DTSTART:20250330T010000
END:DAYLIGHT
BEGIN:STANDARD
TZOFFSETFROM:+0200
TZOFFSETTO:+0100
TZNAME:CET
DTSTART:20251026T010000
END:STANDARD
BEGIN:DAYLIGHT
TZOFFSETFROM:+0100
TZOFFSETTO:+0200
TZNAME:CEST
DTSTART:20260329T010000
END:DAYLIGHT
BEGIN:STANDARD
TZOFFSETFROM:+0200
TZOFFSETTO:+0100
TZNAME:CET
DTSTART:20261025T010000
END:STANDARD
BEGIN:DAYLIGHT
TZOFFSETFROM:+0100
TZOFFSETTO:+0200
TZNAME:CEST
DTSTART:20270328T010000
END:DAYLIGHT
BEGIN:STANDARD
TZOFFSETFROM:+0200
TZOFFSETTO:+0100
TZNAME:CET
DTSTART:20271031T010000
END:STANDARD
END:VTIMEZONE
BEGIN:VEVENT
DTSTART;TZID=Europe/Amsterdam:20261008T090000
DTEND;TZID=Europe/Amsterdam:20261008T173000
DTSTAMP:20260419T204432
CREATED:20260102T150543Z
LAST-MODIFIED:20260102T150543Z
UID:10000192-1791450000-1791480600@bouwnieuwsvandaag.nl
SUMMARY:Next2050: Ruimte voor Morgen
DESCRIPTION:Nederland staat midden in een ruimtelijke crisis. De manier waarop we wonen\, werken en leven verandert razendsnel\, maar onze steden\, wijken en buurten houden die verandering niet bij. Tijdens Next2050 buigen we ons over het maken van ruimte voor wonen\, werken en leven in de toekomst? In drie co-creatielabs werk je aan concrete oplossingen voor de fysieke\, economische en sociale ruimte. \n\n\nDe woningnood groeit\, betaalbaar wonen raakt steeds moeilijker bereikbaar\, en onze infrastructuur kraakt onder de druk van nieuwe mobiliteits- en energievraagstukken. Wie blijft bouwen op oude routines\, loopt vast in nieuwe realiteiten. Tijd voor een andere blik op ruimte. Hoe maken we ruimte voor morgen? Denk mee tijdens Next2050. \n\n\nKans op verandering: Ruimte voor morgen\nDe uitdagingen zijn groot\, maar juist in deze periode liggen ook kansen. Want nu meerdere transities tegelijk plaatsvinden — op het gebied van wonen\, energie\, mobiliteit en wetgeving — ontstaan er ook nieuwe mogelijkheden om het anders te doen. De druk op bestaande systemen dwingt tot vernieuwing\, en daarmee ontstaat ruimte voor slimme keuzes en samenwerking. \n\n\nAls we nú handelen\, kunnen we bouwen aan leefbare steden\, verbonden buurten en een samenleving die klaar is voor de toekomst. De opgaven van vandaag vragen om frisse perspectieven op de fysieke\, economische\, sociale en digitale ruimte. En die krijg jij op dit event. \n\n\nCentrale vraag event\nOm deze spanning te beheersen en een toekomstbestendige indeling van de ruimte te realiseren\, moeten we op weg naar 2050 samen een concrete aanpak hebben voor De fysieke\, economische\, sociale en digitale ruimte.\nHoe kunnen we\, gezien de toenemende druk op de ruimte en de snel veranderende behoeften van onze samenleving\, tot een toekomstbestendige inrichting van Nederland komen die wonen\, werken\, en leven in balans brengt? \n\n\nWaarom dit event\nNext2050 is niet zomaar een evenement; het is een oproep tot actie. Een platform waar woningcorporaties\, gemeenten\, vastgoedeigenaren\, beheerders en ondernemers samenkomen om deze complexe uitdagingen te bespreken\, op te lossen en te co-creëren.​ \n\n\nDoor deel te nemen\, draag je bij aan het vormgeven van een toekomst waarin flexibiliteit en zekerheid hand in hand gaan en zo de ruimte voor morgen creëren. \n\n\nSubsessies – Co- creatie labs\nWe bieden op dit event drie grote co-creatielabs aan om met elkaar de invulling te gaan uitwerken op het grote vraagstuk: De ruimte voor morgen. Dit zijn: \n\n\n1.     De fysieke ruimte\nHet wonen\, bouwen\, gebiedsontwikkeling\, BIM & AI\, slimme sensoren\, materialen en circulair. \n\n\n2.     De economische ruimte\nWerken in het metaverse\, flexwerken dichtbij huis\, VR & AR\, Deeleconomie\, blockchain\, financiering \n\n\n3.     De sociale ruimte\nCommunity building\, ethiek\, e-health\, domotica\, veiligheid\, toegankelijkheid en zekerheid\, samenwerken. \n\n\nBij iedere co-creatie labs zijn er visual storytelling zones aanwezig waarbij kunstenaars/tekenaars de oplossingen en ideeen digitaal vastleggen zodat ze op het grote digitale canvas verschijnen. \n\n\nResultaat\nTijdens het event co- creëren we een grootschalig\, (digitaal)canvas op een prominente locatie binnen het event. Dit canvas fungeert als een dynamisch (kunst)werk waarop deelnemers gedurende het event hun ideeën\, inzichten en visies kunnen toevoegen. \n\n\nVoor wie?\n\n\nHet event staat open voor maximaal 150 deelnemers. De deelnemers werken in management- en beleidsfuncties bij woningcorporaties\, overheden en semioverheden\, marktpartijen\, maatschappelijke organisaties en kennisinstellingen. Het zijn degenen die enerzijds nadenken over de inrichting van ons land en anderzijds degenen die in de positie zijn om zaken concreet aan te pakken.
URL:https://bouwnieuwsvandaag.nl/event/next2050-ruimte-voor-morgen/
CATEGORIES:Seminar
END:VEVENT
END:VCALENDAR