BEGIN:VCALENDAR
VERSION:2.0
PRODID:-//BouwNieuwsVandaag - ECPv6.15.20//NONSGML v1.0//EN
CALSCALE:GREGORIAN
METHOD:PUBLISH
X-WR-CALNAME:BouwNieuwsVandaag
X-ORIGINAL-URL:https://bouwnieuwsvandaag.nl
X-WR-CALDESC:Evenementen voor BouwNieuwsVandaag
REFRESH-INTERVAL;VALUE=DURATION:PT1H
X-Robots-Tag:noindex
X-PUBLISHED-TTL:PT1H
BEGIN:VTIMEZONE
TZID:Europe/Amsterdam
BEGIN:DAYLIGHT
TZOFFSETFROM:+0100
TZOFFSETTO:+0200
TZNAME:CEST
DTSTART:20250330T010000
END:DAYLIGHT
BEGIN:STANDARD
TZOFFSETFROM:+0200
TZOFFSETTO:+0100
TZNAME:CET
DTSTART:20251026T010000
END:STANDARD
BEGIN:DAYLIGHT
TZOFFSETFROM:+0100
TZOFFSETTO:+0200
TZNAME:CEST
DTSTART:20260329T010000
END:DAYLIGHT
BEGIN:STANDARD
TZOFFSETFROM:+0200
TZOFFSETTO:+0100
TZNAME:CET
DTSTART:20261025T010000
END:STANDARD
BEGIN:DAYLIGHT
TZOFFSETFROM:+0100
TZOFFSETTO:+0200
TZNAME:CEST
DTSTART:20270328T010000
END:DAYLIGHT
BEGIN:STANDARD
TZOFFSETFROM:+0200
TZOFFSETTO:+0100
TZNAME:CET
DTSTART:20271031T010000
END:STANDARD
END:VTIMEZONE
BEGIN:VEVENT
DTSTART;TZID=Europe/Amsterdam:20260416T090000
DTEND;TZID=Europe/Amsterdam:20260416T113000
DTSTAMP:20260423T004306
CREATED:20260102T150426Z
LAST-MODIFIED:20260102T150426Z
UID:10000191-1776330000-1776339000@bouwnieuwsvandaag.nl
SUMMARY:De functiemix van de toekomst
DESCRIPTION:De ruimtelijke druk vraagt om nieuwe keuzes. In deze themasessie ontdek je hoe je wonen\, werken en leven weer slim kunt verweven. \n\n\nDe ruimtelijke druk in Nederland neemt sterk toe. Er is een groot tekort aan woningen\, werkgelegenheid verschuift\, voorzieningen komen onder druk te staan en in sommige gebieden gaat de leefkwaliteit hard achteruit. Toch worden functies als wonen\, werken en ontmoeten nog vaak gescheiden gepland en gerealiseerd – door ingesleten gewoontes\, beleidsverkokering of angst voor conflicterende belangen. \n\n\nHet resultaat? Een monotone\, onbetaalbare en niet-inclusieve leefomgeving waar wonen\, werken en leven steeds minder natuurlijk samenkomen. \n\n\nDe tijd dat we het ons konden permitteren om functies strikt gescheiden te houden is voorbij. De opgaven op het gebied van woningbouw\, klimaat\, economie én sociale cohesie vragen om een slimmere en meer geïntegreerde aanpak. Een betekenisvolle functiemix is geen extraatje meer – het is essentieel om leefbare\, toekomstbestendige gebieden te creëren waar ruimte is voor iedereen. \n\n\nWat kun je verwachten?\n\n\n\n\nWat een écht goede functiemix inhoudt: welke functies versterken elkaar?\n\n\n\n\nInspirerende voorbeelden waar het al goed werkt – en waarom.\n\n\n\n\nWelke knelpunten we in de praktijk tegenkomen (beleid\, regelgeving\, samenwerking).\n\n\n\n\nHoe we – ook in jouw organisatie of project – concreet stappen kunnen zetten naar een inclusieve en slimme functiemix.\n\n\n\n\nVoor wie?\n\n\nBeleidsmakers\, adviseurs en projectleiders die werken aan ruimtelijke ontwikkeling\, wonen\, economie of gebiedsontwikkeling en zoeken naar nieuwe manieren om functies slimmer te combineren. Professionals bij gemeenten\, woningcorporaties\, ontwikkelaars en andere publieke of maatschappelijke organisaties die betrokken zijn bij het plannen\, ontwerpen of realiseren van leefbare en toekomstbestendige gebieden.
URL:https://bouwnieuwsvandaag.nl/event/de-functiemix-van-de-toekomst/
LOCATION:Online
CATEGORIES:Webinar
END:VEVENT
BEGIN:VEVENT
DTSTART;TZID=Europe/Amsterdam:20260909T100000
DTEND;TZID=Europe/Amsterdam:20260909T113000
DTSTAMP:20260423T004306
CREATED:20260103T071455Z
LAST-MODIFIED:20260103T071455Z
UID:10000201-1788948000-1788953400@bouwnieuwsvandaag.nl
SUMMARY:Groene Huisvesters: Circulair glas
DESCRIPTION:Circulair glas staat centraal in deze sessie. Waarom inzetten op circulair werken? Hoe werk je samen met de bouwketen? Hoe verhoudt circulair glas zich tot nieuw glas qua kosten\, levensduur en wooncomfort? Wat is nodig om de cultuuromslag te maken voor de toepassing van circulair glas? \n\n\n\n\n\n\n\n\n\n\n\n\n\n\n\n\nJolanda Tetteroo (HvA) gaat in op de aanleiding om glas te hergebruiken en toelichting op haar onderzoek naar hergebruik van glas.\nEline Baert en Vincent Gruis (TU Delft) lichten het CirCol-project toe\, waarin zij onder andere samenwerken met Eigen Haard en Wonion. Zij ontwikkelden een nieuwe R-ladder om het proces te ondersteunen.\nAlexandra Rus en de glaszetters van Eigen Haard\, gaan in op het oogsten van glas en het toepassen van circulair glas bij mutatie\, onderhoud\,\nGroene Huisvesters delen de bouwsteen ‘Circulair glas’.\n\nNeem jouw ketenpartners mee en leer van de praktijk!
URL:https://bouwnieuwsvandaag.nl/event/groene-huisvesters-circulair-glas/
LOCATION:Online
CATEGORIES:Webinar
ORGANIZER;CN="Aedes vereniging van woningcorporaties":MAILTO:info@aedes.nl
END:VEVENT
BEGIN:VEVENT
DTSTART;TZID=Europe/Amsterdam:20261105T090000
DTEND;TZID=Europe/Amsterdam:20261105T120000
DTSTAMP:20260423T004306
CREATED:20260102T150652Z
LAST-MODIFIED:20260102T150652Z
UID:10000193-1793869200-1793880000@bouwnieuwsvandaag.nl
SUMMARY:Toegang tot infra
DESCRIPTION:Meer dan 2 miljoen Nederlanders missen passend vervoer – met grote gevolgen voor kansengelijkheid en leefbaarheid. In deze themasessie leer je hoe je vervoersarmoede herkent én aanpakt binnen gebiedsontwikkeling en wijkvernieuwing. Met toepasbare oplossingen\, praktijkgerichte casussen en slimme samenwerkingen. \n\n\nIn Nederland ervaren ruim twee miljoen mensen vervoersarmoede: het structureel ontbreken van toegang tot betrouwbaar\, betaalbaar en passend vervoer. Dit probleem speelt zowel in stedelijke als landelijke gebieden en treft uiteenlopende groepen: van bewoners van slecht ontsloten wijken en jongeren zonder rijbewijs tot ouderen\, mensen met een fysieke beperking en huishoudens met een laag inkomen. Het gevolg is beperkte toegang tot werk\, onderwijs\, zorg en sociale netwerken – met directe impact op leefbaarheid\, kansengelijkheid en woongenot. \n\n\nMobiliteit is een basisvoorwaarde voor volwaardig deelnemen aan de samenleving. Vervoersarmoede vergroot ongelijkheid en belemmert kansen\, maar toch wordt mobiliteit vaak als ‘laatste’ toegevoegd in gebiedsontwikkeling\, renovatie of wijkvernieuwing. Juist hier liggen kansen om duurzame\, toegankelijke en slimme mobiliteitsoplossingen integraal in te bouwen. Denk aan mobiliteitshubs\, deelvervoer\, betere OV-oplossingen en toegankelijke infrastructuur die bijdragen aan een toekomstbestendige wijk. \n\n\nWat kun je verwachten?\n\n\nIn deze sessie duiken we samen in: \n\n\n\n\nwaar speelt vervoersarmoede precies\, en wie worden geraakt?\n\n\n\n\nToepasbare oplossingen binnen stedelijke en landelijke gebieden\n\n\n\n\nCasusgerichte aanpak: we leggen mobiliteit naast bestaande plannen voor gebiedsontwikkeling of wijkvernieuwing.\n\n\n\n\nSamenwerking: hoe organiseer je dit met gemeente\, woningcorporatie\, vervoerder en bewoners?\n\n\n\n\nVoor wie?\n\n\nManagers\, beleidsmedewerkers en projectleiders die betrokken zijn bij gebiedsontwikkeling\, wijkvernieuwing of mobiliteitsvraagstukken en vervoersarmoede structureel willen aanpakken. Professionals die praktische oplossingen zoeken om mobiliteit toegankelijker\, slimmer en toekomstbestendiger te maken binnen bestaande plannen en projecten. Iedereen die in de praktijk te maken heeft met kansengelijkheid\, leefbaarheid of infrastructuur en wil leren hoe je vervoersarmoede herkent én effectief aanpakt met toepasbare strategieën en samenwerking.
URL:https://bouwnieuwsvandaag.nl/event/toegang-tot-infra/
LOCATION:Online
CATEGORIES:Webinar
END:VEVENT
BEGIN:VEVENT
DTSTART;TZID=Europe/Amsterdam:20261105T090000
DTEND;TZID=Europe/Amsterdam:20261105T120000
DTSTAMP:20260423T004306
CREATED:20260102T150801Z
LAST-MODIFIED:20260102T150801Z
UID:10000194-1793869200-1793880000@bouwnieuwsvandaag.nl
SUMMARY:Het potentieel van bestaand vastgoed
DESCRIPTION:In plaats van alleen te bouwen\, kijken we in deze themasessie naar wat er al ís: ruim 100 miljoen m² aan leegstaand of onderbenut vastgoed. Je ontdekt hoe transformatie sneller\, duurzamer en goedkoper kan zijn dan nieuwbouw – en hoe je dat concreet toepast met slimme tools\, praktijkvoorbeelden en een kansenkaart. \n\n\nDe focus in de woningopgave ligt nog te veel op nieuwbouw\, terwijl er in Nederland meer dan 100 miljoen m² leegstaand of onderbenut vastgoed beschikbaar is – variërend van kantoren tot maatschappelijke gebouwen en bovenwoningen. Tegelijkertijd loopt het tempo van nieuwbouw achter bij de ambitie. De ruimte is schaars\, materialen zijn duur en personeelstekorten vertragen projecten. \n\n\nTransformatie en hergebruik van bestaand vastgoed zijn vaak sneller\, duurzamer én goedkoper dan nieuwbouw. Bovendien biedt het kansen om woonruimte toe te voegen in bestaande wijken\, met behoud van karakter en infrastructuur. Het sluit aan bij de duurzaamheidsdoelen (minder CO₂\, minder grondstoffenverbruik) én helpt om de woningvoorraad sneller te vergroten zonder te bouwen op schaarse open ruimte. \n\n\nWat kun je verwachten?\n\n\n\n\nWe verkennen samen welke gebouw typologieën zich goed lenen voor hergebruik en transformatie.\n\n\n\n\nWe bekijken concreet de transformatie van locaties met bestaand vastgoed en vergelijken de impact (ruimtelijk\, economisch\, sociaal\, ecologisch) met wat nieuwbouw op die plek zou hebben betekend.\n\n\n\n\nWe laten zien welke slimme tools\, sensoren en data-inzichten je kunnen helpen bij het voorspellen\, plannen en uitvoeren van onderhoud en transformatie.\n\n\n\n\nSamen maken we een kansenkaart: waar kun jij morgen al mee beginnen?\n\n\n\n\nVoor wie?\n\n\nManagers\, adviseurs en projectleiders die betrokken zijn bij vastgoedontwikkeling\, gebiedsontwikkeling of woningbouw en willen ontdekken hoe bestaand vastgoed strategisch kan worden benut. Professionals die kansen willen zien in transformatie en hergebruik\, en handvatten zoeken om projecten sneller\, duurzamer en kostenefficiënter te realiseren. Iedereen die in de praktijk te maken heeft met schaarse ruimte\, hoge kosten of vertragingen en wil leren hoe slimme tools\, data en praktijkvoorbeelden helpen om bestaande gebouwen effectief te transformeren.
URL:https://bouwnieuwsvandaag.nl/event/het-potentieel-van-bestaand-vastgoed/
LOCATION:Online
CATEGORIES:Webinar
END:VEVENT
BEGIN:VEVENT
DTSTART;TZID=Europe/Amsterdam:20261105T090000
DTEND;TZID=Europe/Amsterdam:20261105T120000
DTSTAMP:20260423T004306
CREATED:20260102T150911Z
LAST-MODIFIED:20260102T150911Z
UID:10000195-1793869200-1793880000@bouwnieuwsvandaag.nl
SUMMARY:Regie in de Vastgoedketen
DESCRIPTION:In gebiedsontwikkeling is samenwerking cruciaal – maar vaak complex. In deze themasessie leer je hoe je duidelijke afspraken maakt\, rollen scherp verdeelt en de besluitvorming versnelt. Met aandacht voor de nieuwe Wet versterking regie volkshuisvesting en inspirerende praktijkvoorbeelden uit de keten. \n\n\nIn de dynamische wereld van woningbouw en gebiedsontwikkeling is effectieve samenwerking tussen gemeenten\, woningcorporaties\, ontwikkelaars en andere partijen essentieel. Professionals worden echter vaak geconfronteerd met onduidelijke rollen\, tegenstrijdige belangen en trage besluitvorming\, wat leidt tot vertragingen en inefficiënties. Deze sessie biedt diepgaande kennis en praktische strategieën om deze uitdagingen te overwinnen en projecten succesvoller te maken. \n\n\nDe aanhoudende druk op de woningmarkt vereist efficiënte en doelgerichte gebiedsontwikkeling. Effectieve samenwerking is cruciaal om projecten op tijd en binnen budget te realiseren. Dit vraagt om heldere afspraken\, gedeelde verantwoordelijkheden en een gezamenlijke focus op resultaat. \n\n\nWat kun je verwachten?\n\n\n\n\nJe verwerft kennis over het maken van duidelijke samenwerkingsafspraken en het scherp afbakenen van verantwoordelijkheden.\n\n\n\n\nJe ontdekt geavanceerde technieken om de samenwerking met andere partijen te stroomlijnen\, conflicten te minimaliseren en de besluitvorming te versnellen.\n\n\n\n\nDe impact van de Wet versterking regie volkshuisvesting\, en wat deze betekent voor de samenwerking en rolverdeling binnen de vastgoedketen.\n\n\n\n\n.Je maakt kennis met succesvolle praktijkvoorbeelden van ketensamenwerking.\n\n\n\n\nVoor wie?\n\n\nManagers\, projectleiders en adviseurs die betrokken zijn bij gebiedsontwikkeling of vastgoedprojecten en effectiefere samenwerking binnen complexe ketens nastreven. Professionals die te maken hebben met onduidelijke rollen\, tegenstrijdige belangen of trage besluitvorming en handvatten zoeken om projecten sneller\, efficiënter en succesvoller te maken. Iedereen die wil leren hoe je duidelijke afspraken maakt\, verantwoordelijkheden scherp afbakent en samenwerking structureel verbetert\, met praktische inzichten uit de praktijk en aandacht voor relevante wet- en regelgeving.
URL:https://bouwnieuwsvandaag.nl/event/regie-in-de-vastgoedketen/
LOCATION:Online
CATEGORIES:Webinar
END:VEVENT
END:VCALENDAR