BEGIN:VCALENDAR
VERSION:2.0
PRODID:-//BouwNieuwsVandaag - ECPv6.15.20//NONSGML v1.0//EN
CALSCALE:GREGORIAN
METHOD:PUBLISH
X-ORIGINAL-URL:https://bouwnieuwsvandaag.nl
X-WR-CALDESC:Evenementen voor BouwNieuwsVandaag
REFRESH-INTERVAL;VALUE=DURATION:PT1H
X-Robots-Tag:noindex
X-PUBLISHED-TTL:PT1H
BEGIN:VTIMEZONE
TZID:Europe/Amsterdam
BEGIN:DAYLIGHT
TZOFFSETFROM:+0100
TZOFFSETTO:+0200
TZNAME:CEST
DTSTART:20240331T010000
END:DAYLIGHT
BEGIN:STANDARD
TZOFFSETFROM:+0200
TZOFFSETTO:+0100
TZNAME:CET
DTSTART:20241027T010000
END:STANDARD
BEGIN:DAYLIGHT
TZOFFSETFROM:+0100
TZOFFSETTO:+0200
TZNAME:CEST
DTSTART:20250330T010000
END:DAYLIGHT
BEGIN:STANDARD
TZOFFSETFROM:+0200
TZOFFSETTO:+0100
TZNAME:CET
DTSTART:20251026T010000
END:STANDARD
BEGIN:DAYLIGHT
TZOFFSETFROM:+0100
TZOFFSETTO:+0200
TZNAME:CEST
DTSTART:20260329T010000
END:DAYLIGHT
BEGIN:STANDARD
TZOFFSETFROM:+0200
TZOFFSETTO:+0100
TZNAME:CET
DTSTART:20261025T010000
END:STANDARD
END:VTIMEZONE
BEGIN:VEVENT
DTSTART;TZID=Europe/Amsterdam:20250929T090000
DTEND;TZID=Europe/Amsterdam:20251003T180000
DTSTAMP:20260419T153616
CREATED:20250705T030324Z
LAST-MODIFIED:20250830T033437Z
UID:10000109-1759136400-1759514400@bouwnieuwsvandaag.nl
SUMMARY:DGBW – Dutch Green Building Week
DESCRIPTION:De week is al jaren dé landelijke campagneweek voor duurzaam bouwen en ontwikkelen. De week geeft ieder jaar weer een podium aan bedrijven en instellingen die voorlopen op CO2-reductie\, Circulariteit\, Klimaatadaptatie en Gezondheid. Nationale goede voorbeelden worden getoond en concrete handvatten worden gegeven. Vraag en aanbod ontmoeten elkaar. De Dutch Green Building Week biedt talrijke momenten om in contact te komen met nationale pioniers\, te luisteren naar creatieve denkers en doeners en naar mensen die een toekomstbestendige omgeving en samenleving mogelijk maken.
URL:https://bouwnieuwsvandaag.nl/event/dgbw-dutch-green-building-week/
CATEGORIES:Congres
ORGANIZER;CN="DGBC &#8211%3B Dutch Green Building Council":MAILTO:info@dgbc.nl
END:VEVENT
BEGIN:VEVENT
DTSTART;TZID=Europe/Amsterdam:20251022T120000
DTEND;TZID=Europe/Amsterdam:20251022T160000
DTSTAMP:20260419T153616
CREATED:20251014T090115Z
LAST-MODIFIED:20251014T090115Z
UID:10000116-1761134400-1761148800@bouwnieuwsvandaag.nl
SUMMARY:Wissel ervaringen uit met de Wkb tijdens de Regiotour
DESCRIPTION:Bent u aannemer\, kwaliteitsborger\, gemeenteambtenaar of komt u op een andere manier in aanraking met de Wet Kwaliteitsborging voor het bouwen (Wkb)? Kom dan dit najaar naar de regiotour van de TloKB. Tijdens deze bijeenkomsten door heel het land wisselen partijen hun ervaringen uit met twee jaar kwaliteitsborging in de bouw. Wat is herkenbaar? Wat gaat goed? En wat kan beter? \n\nMeld u aan voor de verschillende data:\nDe TloKB organiseert de regiotour samen met de Vereniging Nederlandse Gemeenten (VNG) en de Vereniging Kwaliteitsborging Nederland (VKBN). Voor wie is dit relevant? Eigenlijk iedereen die in de praktijk werkt met de Wkb. Meld u dan snel aan bij een bijeenkomst in de buurt. \nMeld u aan voor de verschillende data: \n\nGemeente Eemsdelta – 15 oktober (provinciehuis Groningen)\nGemeente Haarlem – 22 oktober (de Koepel)\nGemeente Nijmegen – 12 november (de Lindenberg)\nGemeente Tholen – 19 november (locatie volgt)\nGemeente Amersfoort – 26 november (de Observant)\nGemeente Breda – 10 december (locatie volgt)\n\n\n\nProgramma regiotour\n\n12.00 – 13.00 Lunch en ontvangst\n13.00 – 13.15 Welkom en introductie\n13.15 – 13.45 Verhalen uit de praktijk: Op pad met de TLoKB\n13.45 – 14.15 Van signaal naar actie: het borgingsplan in de praktijk\n14.15 – 14.30 Pauze\n14.30 – 15.15 Dilemma’s uit de praktijk – bespreken regionale knelpunten aan tafels\n15.15 – 15.45 Afsluiting: Wat kunnen we van elkaar verwachten? – panelgesprek met VNG\, VKBN\, TloKB en BZK\n15.45 – 16.00 Netwerkmoment\n\nMeer informatie over het programma vindt u hier.
URL:https://bouwnieuwsvandaag.nl/event/wissel-ervaringen-uit-met-de-wkb-tijdens-de-regiotour/2025-10-22/
CATEGORIES:Seminar
END:VEVENT
END:VCALENDAR