BEGIN:VCALENDAR
VERSION:2.0
PRODID:-//BouwNieuwsVandaag - ECPv6.15.20//NONSGML v1.0//EN
CALSCALE:GREGORIAN
METHOD:PUBLISH
X-WR-CALNAME:BouwNieuwsVandaag
X-ORIGINAL-URL:https://bouwnieuwsvandaag.nl
X-WR-CALDESC:Evenementen voor BouwNieuwsVandaag
REFRESH-INTERVAL;VALUE=DURATION:PT1H
X-Robots-Tag:noindex
X-PUBLISHED-TTL:PT1H
BEGIN:VTIMEZONE
TZID:Europe/Amsterdam
BEGIN:DAYLIGHT
TZOFFSETFROM:+0100
TZOFFSETTO:+0200
TZNAME:CEST
DTSTART:20240331T010000
END:DAYLIGHT
BEGIN:STANDARD
TZOFFSETFROM:+0200
TZOFFSETTO:+0100
TZNAME:CET
DTSTART:20241027T010000
END:STANDARD
BEGIN:DAYLIGHT
TZOFFSETFROM:+0100
TZOFFSETTO:+0200
TZNAME:CEST
DTSTART:20250330T010000
END:DAYLIGHT
BEGIN:STANDARD
TZOFFSETFROM:+0200
TZOFFSETTO:+0100
TZNAME:CET
DTSTART:20251026T010000
END:STANDARD
BEGIN:DAYLIGHT
TZOFFSETFROM:+0100
TZOFFSETTO:+0200
TZNAME:CEST
DTSTART:20260329T010000
END:DAYLIGHT
BEGIN:STANDARD
TZOFFSETFROM:+0200
TZOFFSETTO:+0100
TZNAME:CET
DTSTART:20261025T010000
END:STANDARD
BEGIN:DAYLIGHT
TZOFFSETFROM:+0100
TZOFFSETTO:+0200
TZNAME:CEST
DTSTART:20270328T010000
END:DAYLIGHT
BEGIN:STANDARD
TZOFFSETFROM:+0200
TZOFFSETTO:+0100
TZNAME:CET
DTSTART:20271031T010000
END:STANDARD
END:VTIMEZONE
BEGIN:VEVENT
DTSTART;TZID=Europe/Amsterdam:20260305T120000
DTEND;TZID=Europe/Amsterdam:20260305T170000
DTSTAMP:20260422T171145
CREATED:20260102T145819Z
LAST-MODIFIED:20260102T145819Z
UID:10000189-1772712000-1772730000@bouwnieuwsvandaag.nl
SUMMARY:Inspiratie- en Praktijkdag geautomatiseerde nabewerking met cobots
DESCRIPTION:Samen met het Interreg COBOTASSIST projectteam organiseert Teqnow een inspirerende praktijkdag over geautomatiseerde nabewerking met cobots. Een interactieve dag waarop je zélf ervaart wat cobots kunnen betekenen voor jouw productieproces. \nDe dag staat in het teken van kennisdeling\, live demonstraties en ontmoetingen met technologiepartners. Ideaal voor wie met robotica aan de slag wil óf de volgende stap wil zetten. \nWat leer je?\nTijdens deze inspiratie- en praktijkdag: \n\nLeer je het Interreg Cobotassist project kennen\nOntdek je hoe cobots de nabewerking slimmer maken\nErvaar je de technologie van dichtbij tijdens live demo’s\nBespreek je jouw automatiseringsuitdaging met experts\nMaak je kennis met technologiepartners van mogelijke oplossingen op de minibeurs\nGa je zelf aan de slag met een cobot tijdens een hands-on workshop (aparte registratie verplicht)\n\nWat levert het op?\nDoor het slim inzetten van een cobot voor nabewerking: \n\nKan (een deel van) het proces worden geautomatiseerd\nWordt een constantere output gerealiseerd met een voorspelbaarder kwaliteitsniveau\nWordt de fysieke belasting van de medewerkers verlaagd\nKan het werkplezier worden verhoogd.\n\nVoor wie?\nDeze dag is bedoeld voor iedereen die zich wil laten inspireren door slimme toepassingen van robotica in de maakindustrie. \nDatum\, tijd en locatie:\nDatum: donderdag 5 maart 2026\nTijdstip: Het volledige programma met start- en eindtijden volgt binnenkort.\nLocatie: Breda Robotics\, Slingerweg 7d\, 4814 AZ Breda
URL:https://bouwnieuwsvandaag.nl/event/inspiratie-en-praktijkdag-geautomatiseerde-nabewerking-met-cobots/
LOCATION:Breda Robotics\, Slingerweg 7d\, Breda\, 4814 AZ
CATEGORIES:Webinar
ORGANIZER;CN="Koninklijke Metaalunie":MAILTO:info@metaalunie.nl
END:VEVENT
BEGIN:VEVENT
DTSTART;TZID=Europe/Amsterdam:20260205T133000
DTEND;TZID=Europe/Amsterdam:20260205T170000
DTSTAMP:20260422T171145
CREATED:20260102T145642Z
LAST-MODIFIED:20260102T145642Z
UID:10000188-1770298200-1770310800@bouwnieuwsvandaag.nl
SUMMARY:Maak het verschil; Maak het Circulair
DESCRIPTION:Prijsschommelingen in grondstoffen\, klanten leggen de lat hoger en ketens veranderen\nsnel. Steeds meer opdrachtgevers kiezen bewust voor leveranciers die slim omgaan\nmet materiaal en energie. Hoe speel je daar als ondernemer op in?\nDeze middag brengt de Maakindustrie samen\, met verhalen van inspirerende\nsprekers uit de branche maar vooral ook met de mogelijkheid je eigen verhaal te doen\ntijdens de deelsessies. \nDe bijeenkomst staat open voor alle maakbedrijven in Emmen en omgeving: van metaal en machinebouw tot bouw\, beton\, hout en interieurbouw. Deze middag komt tot stand samen met Vereniging Circulair Groningen Drenthe en Noord Nederland Verdient Circulair. \nSprekers \n\n Guido Rink\, wethouder Economie – wat doet Emmen voor de maakindustrie?\nDiana de Graaf\, directeur Stichting Circulaire Maakindustrie – over kansen en voorbeelden uit de dagelijkse praktijk\nKees Verkuil\, sustainability for business manager – circulair ondernemen binnen een groot maakbedrijf\nDennis Vegter\, NHL Stenden – interactieve sessie over supply chain management en kritieke grondstofstromen\n\nDeelsessies (keuzeprogramma) \n\nBouw & Beton – Van betonafval naar bouwgrondstof\nInterieurbouw & Hout – Hoogwaardig hergebruik en koppelen van reststromen\nMachinebouw – Refurbish\, repair of replace?\nMetaal & Toelevering – Hoogwaardig hergebruik van metalen\nKritieke grondstofstromen – Gezamenlijke voorraad als een oplossingsvorm\n\nPraktische informatie\nDatum en tijdstip: 5 februari 2026 | 13:30 – 17:00 uur\nLocatie: Prysmian/Draka\, Abel Tasmanstraat 1 in Emmen
URL:https://bouwnieuwsvandaag.nl/event/maak-het-verschil-maak-het-circulair/
LOCATION:Prysmian/Draka\, Abel Tasmanstraat 1\, Emmen\, Netherlands
ORGANIZER;CN="Koninklijke Metaalunie":MAILTO:info@metaalunie.nl
END:VEVENT
BEGIN:VEVENT
DTSTART;TZID=Europe/Amsterdam:20260205T120000
DTEND;TZID=Europe/Amsterdam:20260205T180000
DTSTAMP:20260422T171145
CREATED:20260102T145531Z
LAST-MODIFIED:20260102T145531Z
UID:10000187-1770292800-1770314400@bouwnieuwsvandaag.nl
SUMMARY:DURF: Dual Use Region Flevoland Utrecht
DESCRIPTION:De Europese defensiemarkt is volop in beweging. De komende jaren wordt fors geïnvesteerd in nationale veiligheid\, weerbaarheid en technologische voorsprong. Dat creëert concrete kansen voor ondernemers in Midden-Nederland én Defensie die kan profiteren van jouw kennis en technologie. Wat zijn deze kansen en waar begin je als ondernemer? \nTijdens DURF brengen we ondernemers\, kennispartners en Defensie samen om precies op deze vragen antwoord te geven. We verkennen de mogelijkheden op het gebied van toelevering\, innovatie\, internationale samenwerking en duurzame veiligheid. \nWat kun je verwachten? \n\nInspirerende sprekers vanuit Defensie en het bedrijfsleven.\nDe officiële lancering van het regioteam: jouw loket naar Defensie.\nVerdiepende sessies over zakendoen in de Defensiemarkt\, internationalisering\, cyberweerbaarheid\, financiering en de meerwaarde van reservisten.\nSessies over zakendoen met Defensie: Van behoeftestellers binnen Defensie tot startups en partijen die je kunnen helpen bij jouw compliance en testfaciliteiten\n\nPraktische informatie\nDatum en tijdstip: Donderdag 5 februari 2026 | 12:00 – 18:15 uur\nLocatie: Aviodrome\, Pelikaanweg 50 in Lelystad
URL:https://bouwnieuwsvandaag.nl/event/durf-dual-use-region-flevoland-utrecht/
LOCATION:Aviodrome\, Pelikaanweg 50\, Lelystad\, Netherlands
CATEGORIES:Seminar
ORGANIZER;CN="Koninklijke Metaalunie":MAILTO:info@metaalunie.nl
END:VEVENT
BEGIN:VEVENT
DTSTART;TZID=Europe/Amsterdam:20260126T160000
DTEND;TZID=Europe/Amsterdam:20260126T180000
DTSTAMP:20260422T171145
CREATED:20251230T063123Z
LAST-MODIFIED:20251230T063123Z
UID:10000124-1769443200-1769450400@bouwnieuwsvandaag.nl
SUMMARY:Refurbish van staal en duurzamere oppervlaktebehandeling
DESCRIPTION:Ben jij actief in de machine-industrie of staalverwerkende industrie? En wil je weten hoe je stalen onderdelen die al een veredelings- of oppervlaktebehandeling hebben\, opnieuw kunt inzetten? Tijdens deze inspirerende kennissessie hoor je hoe bedrijven dit aanpakken en wat er technisch én economisch mogelijk is. \nWe gaan samen in overleg over: \n\nWaarom het zowel ecologisch als economisch interessant is om stalen delen te refurbishen\nWat je moet doen om stalen delen opnieuw inzetbaar te maken\nWat mogelijke oplossingsrichtingen zijn voor verschillende soorten oppervlaktebehandelingen:\no Verzinken\no Geel passiveren\no Scoperen en poedercoaten\no Verzinken en poedercoaten\nWat brengt de toekomst?\n\nLaat je inspireren door praktijkvoorbeelden en experts uit de sector! \nProgramma \n\n15.45 – 16.00 uur / Inloop\n16.00 – 18.00 uur / Programma met sprekers en rondleiding\nDe sprekers zijn Stefan Morssink van HTC en Philippe Dupont van Coatinc\nNapraten met drankje tot 18.30 uur\n\nPraktische informatie:\nDatum en tijd: 26 januari 2026 | 15:45 – 18:30 uur\nLocatie: HTC\, Tweede Bloksweg 72 in Waddinxveen
URL:https://bouwnieuwsvandaag.nl/event/refurbish-van-staal-en-duurzamere-oppervlaktebehandeling/
LOCATION:HTC\, Tweede Bloksweg 72\, Waddinxveen
CATEGORIES:Lezing
ORGANIZER;CN="Koninklijke Metaalunie":MAILTO:info@metaalunie.nl
END:VEVENT
BEGIN:VEVENT
DTSTART;TZID=Europe/Amsterdam:20250417T150000
DTEND;TZID=Europe/Amsterdam:20250417T190000
DTSTAMP:20260422T171145
CREATED:20250222T230407Z
LAST-MODIFIED:20250412T021816Z
UID:10000083-1744902000-1744916400@bouwnieuwsvandaag.nl
SUMMARY:Ontsnappen aan de waan van de dag door technische en organisatorische maatregelen: wat werkt? In Westerbork bij GeTech
DESCRIPTION:Vijfde serie Metaalunie Productiviteitskringen: Ontsnappen aan de waan van de dag door technische en organisatorische maatregelen: wat werkt? \nIn de afgelopen weken heeft het Teqnow-team van Metaalunie gewerkt aan de voorbereidingen van deze nieuwe serie Productiviteitskring-bijeenkomsten. We zijn te gast bij prachtige Metaalunie-lidbedrijven. Ook in jouw regio. De inschrijving is nu geopend. Meld  je direct aan om van een plaats verzekerd te zijn! \nWat gaan we doen?\nWord jij soms ook geleefd door de waan van de dag? En ben je benieuwd hoe jij daar door technische en organisatorische maatregelen aan kan ontsnappen? Dat is waar het in deze vijfde editie van de Productiviteitskringen om gaat! Wat werkt in de praktijk? Wat zijn oplossingen bij collega-metaaluniebedrijven en experts? Met veel praktijkvoorbeelden en het delen van ervaringen met collega’s. Ben je benieuwd naar: \n✅ Je klantcontact en offertetraject stroomlijnen? \n✅ Je productie aansturen als een geoliede machine waar het fijn werken is? \n✅ Fouten en verstoring voorspellen en voorkomen? \n✅ AI en slimme apps inzetten als assistent? \n✅ Slim kennis delen en doorgeven? \n✅ Slim automatiseren waardoor routinematige taken uit handen worden genomen? \n✅ Collega’s die zelfstandig hun taak uitvoeren en elke dag beter worden? \nWat levert het op?\nWanneer je minder in beslag wordt genomen door de waan van de dag\, creëer je ruimte voor langetermijnontwikkeling\, strategische keuzes en innovatie. Daarmee versterk je de concurrentiekracht van je bedrijf. \nProductiviteitskringen\nProductiviteitskringen zijn regionale bijeenkomsten waarbij we te gast zijn bij een collega-Metaalunielid. Het draait om inspiratie en kennis over slimmer en productiever werken in het MKB metaalbedrijf.  Wat je kunt verwachten is een overvloed aan ideeën en tips uit de praktijk van Teqnow en van collega-bedrijven. Ook is er alle ruimte om te sparren met vakgenoten en om kennis\, ervaring en inzichten met elkaar te delen. \nDoelgroep\nDeze bijeenkomsten zijn voor ondernemers en medewerkers die willen ontsnappen aan de waan van de dag. \nAanmelden\nLet op: er is plaats voor slechts maximaal 30 deelnemers per bijeenkomst. Jouw aanmelding wordt in volgorde van binnenkomst afgehandeld. Claim dus snel je deelname via https://metaalunie.nl/Actueel/Agenda-bijeenkomsten \nData en locaties\n18 maart in Breda bij AMT Group\n25 maart in Holten bij TechNikkels\n10 april in Oisterwijk bij De Cromvoirtse\n17 april in Westerbork bij GeTech\n27 mei in Heerlen bij Oostwegel Special Products\n3 juni in Zwijndrecht bij Forceertechniek Koolmees
URL:https://bouwnieuwsvandaag.nl/event/metaalunie-productiviteitskringen-ontsnappen-aan-de-waan-van-de-dag-door-technische-en-organisatorische-maatregelen-wat-werkt-4/
CATEGORIES:Bedrijfsdag,Seminar
ORGANIZER;CN="Koninklijke Metaalunie":MAILTO:info@metaalunie.nl
END:VEVENT
BEGIN:VEVENT
DTSTART;TZID=Europe/Amsterdam:20250410T150000
DTEND;TZID=Europe/Amsterdam:20250410T190000
DTSTAMP:20260422T171145
CREATED:20251230T091439Z
LAST-MODIFIED:20251230T091439Z
UID:10000082-1744297200-1744311600@bouwnieuwsvandaag.nl
SUMMARY:Ontsnappen aan de waan van de dag door technische en organisatorische maatregelen: wat werkt? In Oisterwijk bij De Cromvoirtse
DESCRIPTION:Vijfde serie Metaalunie Productiviteitskringen: Ontsnappen aan de waan van de dag door technische en organisatorische maatregelen: wat werkt? \nIn de afgelopen weken heeft het Teqnow-team van Metaalunie gewerkt aan de voorbereidingen van deze nieuwe serie Productiviteitskring-bijeenkomsten. We zijn te gast bij prachtige Metaalunie-lidbedrijven. Ook in jouw regio. De inschrijving is nu geopend. Meld  je direct aan om van een plaats verzekerd te zijn! \nWat gaan we doen?\nWord jij soms ook geleefd door de waan van de dag? En ben je benieuwd hoe jij daar door technische en organisatorische maatregelen aan kan ontsnappen? Dat is waar het in deze vijfde editie van de Productiviteitskringen om gaat! Wat werkt in de praktijk? Wat zijn oplossingen bij collega-metaaluniebedrijven en experts? Met veel praktijkvoorbeelden en het delen van ervaringen met collega’s. Ben je benieuwd naar: \n✅ Je klantcontact en offertetraject stroomlijnen? \n✅ Je productie aansturen als een geoliede machine waar het fijn werken is? \n✅ Fouten en verstoring voorspellen en voorkomen? \n✅ AI en slimme apps inzetten als assistent? \n✅ Slim kennis delen en doorgeven? \n✅ Slim automatiseren waardoor routinematige taken uit handen worden genomen? \n✅ Collega’s die zelfstandig hun taak uitvoeren en elke dag beter worden? \nWat levert het op?\nWanneer je minder in beslag wordt genomen door de waan van de dag\, creëer je ruimte voor langetermijnontwikkeling\, strategische keuzes en innovatie. Daarmee versterk je de concurrentiekracht van je bedrijf. \nProductiviteitskringen\nProductiviteitskringen zijn regionale bijeenkomsten waarbij we te gast zijn bij een collega-Metaalunielid. Het draait om inspiratie en kennis over slimmer en productiever werken in het MKB metaalbedrijf.  Wat je kunt verwachten is een overvloed aan ideeën en tips uit de praktijk van Teqnow en van collega-bedrijven. Ook is er alle ruimte om te sparren met vakgenoten en om kennis\, ervaring en inzichten met elkaar te delen. \nDoelgroep\nDeze bijeenkomsten zijn voor ondernemers en medewerkers die willen ontsnappen aan de waan van de dag. \nAanmelden\nLet op: er is plaats voor slechts maximaal 30 deelnemers per bijeenkomst. Jouw aanmelding wordt in volgorde van binnenkomst afgehandeld. Claim dus snel je deelname via https://metaalunie.nl/Actueel/Agenda-bijeenkomsten \nData en locaties\n18 maart in Breda bij AMT Group\n25 maart in Holten bij TechNikkels\n10 april in Oisterwijk bij De Cromvoirtse\n17 april in Westerbork bij GeTech\n27 mei in Heerlen bij Oostwegel Special Products\n3 juni in Zwijndrecht bij Forceertechniek Koolmees
URL:https://bouwnieuwsvandaag.nl/event/metaalunie-productiviteitskringen-ontsnappen-aan-de-waan-van-de-dag-door-technische-en-organisatorische-maatregelen-wat-werkt-3/
CATEGORIES:Bedrijfsdag,Seminar
ORGANIZER;CN="Koninklijke Metaalunie":MAILTO:info@metaalunie.nl
END:VEVENT
BEGIN:VEVENT
DTSTART;TZID=Europe/Amsterdam:20250325T150000
DTEND;TZID=Europe/Amsterdam:20250325T190000
DTSTAMP:20260422T171145
CREATED:20251230T091439Z
LAST-MODIFIED:20251230T091439Z
UID:10000080-1742914800-1742929200@bouwnieuwsvandaag.nl
SUMMARY:Metaalunie Productiviteitskringen: Ontsnappen aan de waan van de dag door technische en organisatorische maatregelen: wat werkt?
DESCRIPTION:Vijfde serie Metaalunie Productiviteitskringen: Ontsnappen aan de waan van de dag door technische en organisatorische maatregelen: wat werkt? \nIn de afgelopen weken heeft het Teqnow-team van Metaalunie gewerkt aan de voorbereidingen van deze nieuwe serie Productiviteitskring-bijeenkomsten. We zijn te gast bij prachtige Metaalunie-lidbedrijven. Ook in jouw regio. De inschrijving is nu geopend. Meld  je direct aan om van een plaats verzekerd te zijn! \nWat gaan we doen?\nWord jij soms ook geleefd door de waan van de dag? En ben je benieuwd hoe jij daar door technische en organisatorische maatregelen aan kan ontsnappen? Dat is waar het in deze vijfde editie van de Productiviteitskringen om gaat! Wat werkt in de praktijk? Wat zijn oplossingen bij collega-metaaluniebedrijven en experts? Met veel praktijkvoorbeelden en het delen van ervaringen met collega’s. Ben je benieuwd naar: \n✅ Je klantcontact en offertetraject stroomlijnen? \n✅ Je productie aansturen als een geoliede machine waar het fijn werken is? \n✅ Fouten en verstoring voorspellen en voorkomen? \n✅ AI en slimme apps inzetten als assistent? \n✅ Slim kennis delen en doorgeven? \n✅ Slim automatiseren waardoor routinematige taken uit handen worden genomen? \n✅ Collega’s die zelfstandig hun taak uitvoeren en elke dag beter worden? \nWat levert het op?\nWanneer je minder in beslag wordt genomen door de waan van de dag\, creëer je ruimte voor langetermijnontwikkeling\, strategische keuzes en innovatie. Daarmee versterk je de concurrentiekracht van je bedrijf. \nProductiviteitskringen\nProductiviteitskringen zijn regionale bijeenkomsten waarbij we te gast zijn bij een collega-Metaalunielid. Het draait om inspiratie en kennis over slimmer en productiever werken in het MKB metaalbedrijf.  Wat je kunt verwachten is een overvloed aan ideeën en tips uit de praktijk van Teqnow en van collega-bedrijven. Ook is er alle ruimte om te sparren met vakgenoten en om kennis\, ervaring en inzichten met elkaar te delen. \nDoelgroep\nDeze bijeenkomsten zijn voor ondernemers en medewerkers die willen ontsnappen aan de waan van de dag. \nAanmelden\nLet op: er is plaats voor slechts maximaal 30 deelnemers per bijeenkomst. Jouw aanmelding wordt in volgorde van binnenkomst afgehandeld. Claim dus snel je deelname via https://metaalunie.nl/Actueel/Agenda-bijeenkomsten \nData en locaties\n18 maart in Breda bij AMT Group\n25 maart in Holten bij TechNikkels\n10 april in Oisterwijk bij De Cromvoirtse\n17 april in Westerbork bij GeTech\n27 mei in Heerlen bij Oostwegel Special Products\n3 juni in Zwijndrecht bij Forceertechniek Koolmees
URL:https://bouwnieuwsvandaag.nl/event/metaalunie-productiviteitskringen-ontsnappen-aan-de-waan-van-de-dag-door-technische-en-organisatorische-maatregelen-wat-werkt-2/
CATEGORIES:Bedrijfsdag,Seminar
ORGANIZER;CN="Koninklijke Metaalunie":MAILTO:info@metaalunie.nl
END:VEVENT
BEGIN:VEVENT
DTSTART;TZID=Europe/Amsterdam:20250318T150000
DTEND;TZID=Europe/Amsterdam:20250318T190000
DTSTAMP:20260422T171145
CREATED:20251230T091440Z
LAST-MODIFIED:20251230T091440Z
UID:10000079-1742310000-1742324400@bouwnieuwsvandaag.nl
SUMMARY:Metaalunie Productiviteitskringen: Ontsnappen aan de waan van de dag door technische en organisatorische maatregelen: wat werkt?
DESCRIPTION:Vijfde serie Metaalunie Productiviteitskringen: Ontsnappen aan de waan van de dag door technische en organisatorische maatregelen: wat werkt? \nIn de afgelopen weken heeft het Teqnow-team van Metaalunie gewerkt aan de voorbereidingen van deze nieuwe serie Productiviteitskring-bijeenkomsten. We zijn te gast bij prachtige Metaalunie-lidbedrijven. Ook in jouw regio. De inschrijving is nu geopend. Meld  je direct aan om van een plaats verzekerd te zijn! \nWat gaan we doen?\nWord jij soms ook geleefd door de waan van de dag? En ben je benieuwd hoe jij daar door technische en organisatorische maatregelen aan kan ontsnappen? Dat is waar het in deze vijfde editie van de Productiviteitskringen om gaat! Wat werkt in de praktijk? Wat zijn oplossingen bij collega-metaaluniebedrijven en experts? Met veel praktijkvoorbeelden en het delen van ervaringen met collega’s. Ben je benieuwd naar: \n✅ Je klantcontact en offertetraject stroomlijnen? \n✅ Je productie aansturen als een geoliede machine waar het fijn werken is? \n✅ Fouten en verstoring voorspellen en voorkomen? \n✅ AI en slimme apps inzetten als assistent? \n✅ Slim kennis delen en doorgeven? \n✅ Slim automatiseren waardoor routinematige taken uit handen worden genomen? \n✅ Collega’s die zelfstandig hun taak uitvoeren en elke dag beter worden? \nWat levert het op?\nWanneer je minder in beslag wordt genomen door de waan van de dag\, creëer je ruimte voor langetermijnontwikkeling\, strategische keuzes en innovatie. Daarmee versterk je de concurrentiekracht van je bedrijf. \nProductiviteitskringen\nProductiviteitskringen zijn regionale bijeenkomsten waarbij we te gast zijn bij een collega-Metaalunielid. Het draait om inspiratie en kennis over slimmer en productiever werken in het MKB metaalbedrijf.  Wat je kunt verwachten is een overvloed aan ideeën en tips uit de praktijk van Teqnow en van collega-bedrijven. Ook is er alle ruimte om te sparren met vakgenoten en om kennis\, ervaring en inzichten met elkaar te delen. \nDoelgroep\nDeze bijeenkomsten zijn voor ondernemers en medewerkers die willen ontsnappen aan de waan van de dag. \nAanmelden\nLet op: er is plaats voor slechts maximaal 30 deelnemers per bijeenkomst. Jouw aanmelding wordt in volgorde van binnenkomst afgehandeld. Claim dus snel je deelname via https://metaalunie.nl/Actueel/Agenda-bijeenkomsten \nData en locaties\n18 maart in Breda bij AMT Group\n25 maart in Holten bij TechNikkels\n10 april in Oisterwijk bij De Cromvoirtse\n17 april in Westerbork bij GeTech\n27 mei in Heerlen bij Oostwegel Special Products\n3 juni in Zwijndrecht bij Forceertechniek Koolmees
URL:https://bouwnieuwsvandaag.nl/event/metaalunie-productiviteitskringen-ontsnappen-aan-de-waan-van-de-dag-door-technische-en-organisatorische-maatregelen-wat-werkt/
CATEGORIES:Bedrijfsdag,Seminar
ORGANIZER;CN="Koninklijke Metaalunie":MAILTO:info@metaalunie.nl
END:VEVENT
BEGIN:VEVENT
DTSTART;TZID=Europe/Amsterdam:20250206T123000
DTEND;TZID=Europe/Amsterdam:20250206T173000
DTSTAMP:20260422T171145
CREATED:20251230T091438Z
LAST-MODIFIED:20251230T091438Z
UID:10000057-1738845000-1738863000@bouwnieuwsvandaag.nl
SUMMARY:Machine Vision – Toepassingen in de technische maakindustrie
DESCRIPTION:Onze industrie staat voor toenemende uitdagingen in kwaliteitsbeheer van producten en het productieproces. De toepassing van camera’s – machine vision – zijn daarin van groot belang. \nGraag nodigen wij je uit op 6 februari bij NLR in Marknesse voor het mini-symposium ‘Machine vision in de technische maakindustrie’. \nTijdens dit symposium delen vier experts hun inzichten over hoe vision systemen de precisie\, efficiëntie en kwaliteit in producten en productieprocessen naar een hoger niveau tillen.\nInteressant voor ondernemers en engineers in de machinebouw en technische maakbedrijven. Laat je inspireren door de mogelijkheden. \nProgramma in het kort\n12:30 – 13:00 uur  |  Inloop\n13:00 – 13:15 uur  |  Welkom\n13:15 – 14:00 uur  |  Gastspreker Klaas Dijkstra – Lector Computer Vision & Data Science bij Stenden Hogeschool\n14:00 – 14:45 uur  |  Gastspreker Jensen Akkerman – R&D Manager bij Tembo en Lab Leader Perron038\n14:45 – 15:00 uur  |  Pauze\n15:00 – 15:45 uur  |  Gastspreker Mario Cupelli – 3D Scanning Specialist bij EMS Benelux\n15:45 – 16:30 uur  |  Gastspreker Maurice Kruse – Co-owner bij Total Reality – XR Solutions\n16:30 – 17:30 uur  |  Afsluiting en netwerkborrel \nPraktische informatie\nDatum: 6 februari 2025\nTijdstip: 12:30 – 17:30 uur\nLocatie: Nederlands Lucht- en Ruimtevaartcentrum (NLR)\, Voorsterweg 31 in Marknesse
URL:https://bouwnieuwsvandaag.nl/event/machine-vision-toepassingen-in-de-technische-maakindustrie/
CATEGORIES:Symposium
ORGANIZER;CN="Koninklijke Metaalunie":MAILTO:info@metaalunie.nl
END:VEVENT
END:VCALENDAR