BEGIN:VCALENDAR
VERSION:2.0
PRODID:-//BouwNieuwsVandaag - ECPv6.15.20//NONSGML v1.0//EN
CALSCALE:GREGORIAN
METHOD:PUBLISH
X-WR-CALNAME:BouwNieuwsVandaag
X-ORIGINAL-URL:https://bouwnieuwsvandaag.nl
X-WR-CALDESC:Evenementen voor BouwNieuwsVandaag
REFRESH-INTERVAL;VALUE=DURATION:PT1H
X-Robots-Tag:noindex
X-PUBLISHED-TTL:PT1H
BEGIN:VTIMEZONE
TZID:Europe/Amsterdam
BEGIN:DAYLIGHT
TZOFFSETFROM:+0100
TZOFFSETTO:+0200
TZNAME:CEST
DTSTART:20250330T010000
END:DAYLIGHT
BEGIN:STANDARD
TZOFFSETFROM:+0200
TZOFFSETTO:+0100
TZNAME:CET
DTSTART:20251026T010000
END:STANDARD
BEGIN:DAYLIGHT
TZOFFSETFROM:+0100
TZOFFSETTO:+0200
TZNAME:CEST
DTSTART:20260329T010000
END:DAYLIGHT
BEGIN:STANDARD
TZOFFSETFROM:+0200
TZOFFSETTO:+0100
TZNAME:CET
DTSTART:20261025T010000
END:STANDARD
BEGIN:DAYLIGHT
TZOFFSETFROM:+0100
TZOFFSETTO:+0200
TZNAME:CEST
DTSTART:20270328T010000
END:DAYLIGHT
BEGIN:STANDARD
TZOFFSETFROM:+0200
TZOFFSETTO:+0100
TZNAME:CET
DTSTART:20271031T010000
END:STANDARD
BEGIN:DAYLIGHT
TZOFFSETFROM:+0100
TZOFFSETTO:+0200
TZNAME:CEST
DTSTART:20280326T010000
END:DAYLIGHT
BEGIN:STANDARD
TZOFFSETFROM:+0200
TZOFFSETTO:+0100
TZNAME:CET
DTSTART:20281029T010000
END:STANDARD
END:VTIMEZONE
BEGIN:VEVENT
DTSTART;TZID=Europe/Amsterdam:20260505T090000
DTEND;TZID=Europe/Amsterdam:20260507T170000
DTSTAMP:20260423T161221
CREATED:20260103T084546Z
LAST-MODIFIED:20260103T084546Z
UID:10000228-1777971600-1778173200@bouwnieuwsvandaag.nl
SUMMARY:SurfaceTechnology Germany
DESCRIPTION:SurfaceTechnology GERMANY for the surface treatment industry\nSurfaceTechnology GERMANY is a showcase for all the key trends in the surface treatment industry. Here you can talk to visiting professionals\, explore your focus themes with fellow industry experts\, develop lasting business relationships and pave the way for new sales orders. \nCategories\n\nMeasuring\, testing and analysis\nPre-treatment\nThermal Spraying\nEnvironmental engineering and supply systems\nNano and microtechnology\nIndustrial Plasma and laser-based surface treatment\nSurface treatment\nCoating materials\nServices\nCleaning\nAbrasive Blasting\nElectroplating\n\nWhen it comes to the latest developments and trends\, SurfaceTechnology GERMANY leads the way. To assist you in your travel plannings we have compiled some information for you. \nWhich trends will play a key role in the future? At the Forum SurfaceTechnology GERMANY experts from different companies will enter into a dialogue with specialists from leading research organizations. \nThis popular\, user-oriented forum is organized by WOTech GBR with the support of the Fraunhofer Institute for Production Engineering and Automation (IPA) and the German Engineering Federation (VDMA).\nThe following topics will be covered in the forum: \n\nChanging surface technology – future topics\nEnergy efficiency and material efficiency\nLeightweight contruction and surface technology\nNew processes electroplating\nPhysical surface treatment processes – PVC/CVD\, Thermal Spraying\, Mechanical Plating and related\ntechnologies\nREACh in surface technology – authorization or substitution?\nApplication and use of treated surfaces\nIndustrie 4.0 – quality assurance and process optimization in surface technology\nSystems\, devices\, processes for surface treatment\nCleaning and pre-treatment
URL:https://bouwnieuwsvandaag.nl/event/surfacetechnology-germany/
LOCATION:Messe Stuttgart\, Messepiazza 1\, Stuttgart\, 70629\, Duitsland
CATEGORIES:Vakbeurs
ORGANIZER;CN="Landesmesse Stuttgart GmbH":MAILTO:info@messe-stuttgart.de
END:VEVENT
BEGIN:VEVENT
DTSTART;TZID=Europe/Amsterdam:20260915T090000
DTEND;TZID=Europe/Amsterdam:20260919T170000
DTSTAMP:20260423T161221
CREATED:20260103T084730Z
LAST-MODIFIED:20260103T084730Z
UID:10000229-1789462800-1789837200@bouwnieuwsvandaag.nl
SUMMARY:AMB
DESCRIPTION:Every two years since 1982\, AMB has presented the highlights of the international metalworking industry. It focuses on products\, technologies\, innovations\, services and concepts for people who are passionate about metalworking. This makes it a marketplace\, training and networking platform all in one. Whether you are a visitor or exhibitor – over the years\, AMB has become one of the most important events of the industry.
URL:https://bouwnieuwsvandaag.nl/event/amb/
LOCATION:Messe Stuttgart\, Messepiazza 1\, Stuttgart\, 70629\, Duitsland
CATEGORIES:Vakbeurs
ORGANIZER;CN="Landesmesse Stuttgart GmbH":MAILTO:info@messe-stuttgart.de
END:VEVENT
BEGIN:VEVENT
DTSTART;TZID=Europe/Amsterdam:20261020T080000
DTEND;TZID=Europe/Amsterdam:20261023T170000
DTSTAMP:20260423T161221
CREATED:20260103T084910Z
LAST-MODIFIED:20260103T084910Z
UID:10000231-1792483200-1792774800@bouwnieuwsvandaag.nl
SUMMARY:Blechexpo
DESCRIPTION:Blech meets Business\nThe practical trade fair duo of Blechexpo and Schweisstec takes place on a two-year cycle in the state trade fair centre in Stuttgart (Landesmesse Stuttgart) and is the only event in the world that deals with the complementary technologies of sheet metal processing and joining technology. \nWithin the shortest timeframe\, Blechexpo has been able to gain a leading position in Europe and now ranks second in the world on the list of trade fairs for sheet metal processing. The Schweisstec international specialist trade fair for joining technology forms the ideal complement. It presents all of the relevant mechanical and thermal joining and connecting procedures as well as thermal welding processes. \nSister Trade Fair\nThe Schweisstec trade fair is always held together with the Blechexpo. As such\, detailed and system solutions for the process chains in sheet metal\, profile and pipe section production are presented with no gaps. Specialist visitors benefit from practical and time-saving synergy effects. \nSheet Metal Processing with an International Format\nThe Blechexpo international trade fair for sheet metal processing experienced significant growth and showcases worldwide offerings including products and solutions for the industrial processing of sheet metal\, pipe and profiles. The portfolio extends from raw materials to its storage and handling\, right on up to the production of ready-to-install assemblies\, devices\, equipment and basic machines. Supplemented by the complementary Schweisstec international trade fair for joining technology\, the trade fair duo is of special importance when viewed from a global standpoint\, because nowhere else in the world are the process sequences for processing sheet metal\, pipe and profiles so well represented as here! \nThe modern concepts of Blechexpo and Schweisstec are consistently aligned to the needs of the users\, and are reflected in the continuous upward trend demonstrated by both of these information\, communication and procurement platforms. Double-digit growth rates for exhibitor numbers and exhibition floor space for nearly every event is accompanied by ever greater numbers of expert visitors from industrial countries and newly industrialised nations. \n 
URL:https://bouwnieuwsvandaag.nl/event/blechexpo-2/
LOCATION:Messe Stuttgart\, Messepiazza 1\, Stuttgart\, 70629\, Duitsland
CATEGORIES:Vakbeurs
ORGANIZER;CN="Landesmesse Stuttgart GmbH":MAILTO:info@messe-stuttgart.de
END:VEVENT
BEGIN:VEVENT
DTSTART;TZID=Europe/Amsterdam:20271026T080000
DTEND;TZID=Europe/Amsterdam:20271029T170000
DTSTAMP:20260423T161221
CREATED:20241218T063258Z
LAST-MODIFIED:20251211T153241Z
UID:10000044-1824537600-1824829200@bouwnieuwsvandaag.nl
SUMMARY:Blechexpo
DESCRIPTION:Blech meets Business\nThe practical trade fair duo of Blechexpo and Schweisstec takes place on a two-year cycle in the state trade fair centre in Stuttgart (Landesmesse Stuttgart) and is the only event in the world that deals with the complementary technologies of sheet metal processing and joining technology. \nWithin the shortest timeframe\, Blechexpo has been able to gain a leading position in Europe and now ranks second in the world on the list of trade fairs for sheet metal processing. The Schweisstec international specialist trade fair for joining technology forms the ideal complement. It presents all of the relevant mechanical and thermal joining and connecting procedures as well as thermal welding processes. \nSister Trade Fair \nThe Schweisstec trade fair is always held together with the Blechexpo. As such\, detailed and system solutions for the process chains in sheet metal\, profile and pipe section production are presented with no gaps. Specialist visitors benefit from practical and time-saving synergy effects. \nSheet Metal Processing with an International Format\nThe Blechexpo international trade fair for sheet metal processing experienced significant growth and showcases worldwide offerings including products and solutions for the industrial processing of sheet metal\, pipe and profiles. The portfolio extends from raw materials to its storage and handling\, right on up to the production of ready-to-install assemblies\, devices\, equipment and basic machines. Supplemented by the complementary Schweisstec international trade fair for joining technology\, the trade fair duo is of special importance when viewed from a global standpoint\, because nowhere else in the world are the process sequences for processing sheet metal\, pipe and profiles so well represented as here! \nThe modern concepts of Blechexpo and Schweisstec are consistently aligned to the needs of the users\, and are reflected in the continuous upward trend demonstrated by both of these information\, communication and procurement platforms. Double-digit growth rates for exhibitor numbers and exhibition floor space for nearly every event is accompanied by ever greater numbers of expert visitors from industrial countries and newly industrialised nations.
URL:https://bouwnieuwsvandaag.nl/event/blechexpo/
LOCATION:Messe Stuttgart\, Messepiazza 1\, Stuttgart\, 70629\, Duitsland
CATEGORIES:Vakbeurs
ORGANIZER;CN="Landesmesse Stuttgart GmbH":MAILTO:info@messe-stuttgart.de
END:VEVENT
END:VCALENDAR